BEGIN:VCALENDAR
VERSION:2.0
PRODID:-//Primorski tehnološki park - ECPv6.10.2//NONSGML v1.0//EN
CALSCALE:GREGORIAN
METHOD:PUBLISH
X-WR-CALNAME:Primorski tehnološki park
X-ORIGINAL-URL:https://www.primorski-tp.si
X-WR-CALDESC:Dogodki za Primorski tehnološki park
REFRESH-INTERVAL;VALUE=DURATION:PT1H
X-Robots-Tag:noindex
X-PUBLISHED-TTL:PT1H
BEGIN:VTIMEZONE
TZID:Africa/Abidjan
BEGIN:STANDARD
TZOFFSETFROM:+0000
TZOFFSETTO:+0000
TZNAME:GMT
DTSTART:20200101T000000
END:STANDARD
END:VTIMEZONE
BEGIN:VEVENT
DTSTART;TZID=Africa/Abidjan:20201112T160000
DTEND;TZID=Africa/Abidjan:20201112T190000
DTSTAMP:20260423T111729
CREATED:20201102T081654Z
LAST-MODIFIED:20201112T090432Z
UID:54122-1605196800-1605207600@www.primorski-tp.si
SUMMARY:Kako spremljati finance v startupu?
DESCRIPTION:V sklopu GoStartup šole bo 12.11.2020 od 16.00 do 19.00 potekal webinar na temo: \nKako spremljati finance v startupu? \nZ Rokom Guličem iz podjetja Ollo Audio bodo udeleženci poglabljali znanje o vodenju podjetja\, izračunu denarnih tokov\, razumevanju financ. Posvetili se bodo organiziranosti in motiviranosti za delo. \nPrijave na mitja.mikuz@primorski-tp.si \nAktivnost Primorskega tehnološkega parka v okviru operacije SIO-PTP-2020-2022 sofinancirata Republika Slovenija in Evropska unija iz Evropskega sklada za regionalni razvoj. Operacija se izvaja v okviru Operativnega programa za izvajanje Evropske kohezijske politike v obdobju 2014-2020\, prednostne osi: 3 Dinamično in konkurenčno podjetništvo za zeleno gospodarsko rast (www.eu-skladi.si).
URL:https://www.primorski-tp.si/dogodek/54122/
CATEGORIES:delavnice,PTP dogodki
ATTACH;FMTTYPE=image/jpeg:https://www.primorski-tp.si/wp-content/uploads/2020/11/pexels-cottonbro-3943716.jpg
END:VEVENT
END:VCALENDAR