BEGIN:VCALENDAR
VERSION:2.0
PRODID:-//Primorski tehnološki park - ECPv6.10.2//NONSGML v1.0//EN
CALSCALE:GREGORIAN
METHOD:PUBLISH
X-WR-CALNAME:Primorski tehnološki park
X-ORIGINAL-URL:https://www.primorski-tp.si
X-WR-CALDESC:Dogodki za Primorski tehnološki park
REFRESH-INTERVAL;VALUE=DURATION:PT1H
X-Robots-Tag:noindex
X-PUBLISHED-TTL:PT1H
BEGIN:VTIMEZONE
TZID:Africa/Abidjan
BEGIN:STANDARD
TZOFFSETFROM:+0000
TZOFFSETTO:+0000
TZNAME:GMT
DTSTART:20210101T000000
END:STANDARD
END:VTIMEZONE
BEGIN:VEVENT
DTSTART;TZID=Africa/Abidjan:20211005T170000
DTEND;TZID=Africa/Abidjan:20211005T200000
DTSTAMP:20260423T020215
CREATED:20211001T124938Z
LAST-MODIFIED:20211001T125027Z
UID:55710-1633453200-1633464000@www.primorski-tp.si
SUMMARY:Investment Academy: Product Market Fit
DESCRIPTION:Boštjan Špetič bo predstavil “product market fit” oz ujemanje izdelka s trgom. Predstavil bo metode\, kako izmerite trg izdelkov\, ki ustreza vašemu izdelku oz. storitev in kako analizirati rezultate\, ki bodo podlaga za odločitve o tem\, zakaj je ujemanje izdelkov s trgom pomembno in ali je postopek usklajevanja izdelka s trgom se kdaj konča. Podrobno bomo razčlenili faze pred “product market fitom”- problem-solution fit ( torej ujemanje problema in rešitve) in kaj je naslednja faza v start-up podjetju. \nO predavatelju\nBoštjan Špetič je soustanovitelj in direktor Zemante in eden prvih slovenskih startup podjetnikov ki je pridobil tvegan kapital v tujini. V letu 2017 je Zemanto\, ki razvija tehnologije za “native” oglaševanje\, prevzelo ameriško podjetje Outbrain\, ki razvija največjo svetovno platformo za priporočanje kvalitetnih vsebin. Trenutno svojo podjetniško in managersko pot nadaljuje v Outbrainu kot strateški svetovalec za poslovni razvoj. \nIma veliko izkušenj in znanja na področju razvoja produkta\, prodaje\, marketinga\, kadrovanja ter finančnega modeliranja. Kot navdušenec nad najnovejšimi tehnologijami pa deluje kot svetovalec\, aktiven startup mentor in poslovni angel. Boštjan je tudi del ekipe Računalniškega muzeja\, katerega poslanstvo je ohranjanje računalniške in tehnološke dediščine in izobraževanje širše javnosti o zgodovini računalništva. Boštjan je med drugim tudi soustanovitelj slovenskega angelskega sklada Silicon Gardens Fund. \nKdaj?\n5.10.2021\, ob 17.00 \nPrijava na dogodek\n  \n\nV partnerstvu s Poslovni angeli Slovenije\, KIKštarter\, SAŠA inkubator in SPIRIT Slovenija\, javna agencija\n\n\n\nAktivnost Primorskega tehnološkega parka v okviru operacije SIO-PTP-2020-2022 sofinancirata Republika Slovenija in Evropska unija iz Evropskega sklada za regionalni razvoj. Operacija se izvaja v okviru Operativnega programa za izvajanje Evropske kohezijske politike v obdobju 2014-2020\, prednostne osi: 3 Dinamično in konkurenčno podjetništvo za zeleno gospodarsko rast (www.eu-skladi.si).
URL:https://www.primorski-tp.si/dogodek/investmene-academy-product-market-fit/
CATEGORIES:delavnice,PTP dogodki
ATTACH;FMTTYPE=image/jpeg:https://www.primorski-tp.si/wp-content/uploads/2021/10/investmen-academy-spetic.jpg
END:VEVENT
END:VCALENDAR