BEGIN:VCALENDAR
VERSION:2.0
PRODID:-//Primorski tehnološki park - ECPv6.10.2//NONSGML v1.0//EN
CALSCALE:GREGORIAN
METHOD:PUBLISH
X-WR-CALNAME:Primorski tehnološki park
X-ORIGINAL-URL:https://www.primorski-tp.si
X-WR-CALDESC:Dogodki za Primorski tehnološki park
REFRESH-INTERVAL;VALUE=DURATION:PT1H
X-Robots-Tag:noindex
X-PUBLISHED-TTL:PT1H
BEGIN:VTIMEZONE
TZID:Europe/Ljubljana
BEGIN:DAYLIGHT
TZOFFSETFROM:+0100
TZOFFSETTO:+0200
TZNAME:CEST
DTSTART:20260329T010000
END:DAYLIGHT
BEGIN:STANDARD
TZOFFSETFROM:+0200
TZOFFSETTO:+0100
TZNAME:CET
DTSTART:20261025T010000
END:STANDARD
END:VTIMEZONE
BEGIN:VEVENT
DTSTART;TZID=Europe/Ljubljana:20260212T140000
DTEND;TZID=Europe/Ljubljana:20260212T170000
DTSTAMP:20260421T192152
CREATED:20260130T130136Z
LAST-MODIFIED:20260202T134854Z
UID:61564-1770904800-1770915600@www.primorski-tp.si
SUMMARY:Arhitektura uspešnega podjetja: Zgradite model\, ki osvoji kupce
DESCRIPTION:Ste v prvem letu poslovanja in želite\, da vaše podjetje namesto “preživetja” izbere pot hitre rasti? Ključ do uspeha ni le dobra ideja\, ampak poslovni model\, ki pije vodo na trgu. Na tej delavnici bomo vašo vizijo postavili na trdne temelje. \nUdeleženci bodo skozi praktično delo izboljšali svoj poslovni model\, definirali svojo ključno konkurenčno prednost ter opredelili ključne stranke. Delavnica je posebej primerna za vsa podjetja\, ki se želijo prijaviti na razpis P2 2026 in omogoča pridobitev 72.000 EUR nepovratnih sredstev za razvoj podjetja. Govorili bomo tudi o razpisu P2R. Gre za spodbude za zagon podjetij na obmejnih problemskih območjih.  \nKaj boste odnesli z delavnice?\n\nPoglobljeno boste razumeli ključne gradnike svojega poslovnega modela.\nSpoznali boste orodja za definiranje kupcev in testiranje trga\, ki jih uporabljajo najuspešnejši startupi.\nDobili boste neposreden komentar na vaš trenutni model in ideje za izboljšave.\nPrejeli boste ključne informacije o razpisu P2 2026 in izvedeli\, ali je vaše podjetje primeren kandidat.\n\n  \nKomu je delavnica namenjena?\nVsem\, ki ste na začetku podjetniške poti\, startupom in inovatorjem\, ki: \n\nželite postaviti model\, ki bo generiral prihodke in ne le stroškov;\niščete načine\, kako izboljšati svojo konkurenčno prednost;\nrazmišljate o prijavi na razpis P2 in želite maksimalno povečati možnosti za uspeh;\npotrebujete strokovno vodstvo pri prehodu iz faze ideje v fazo tržne rasti.\nVsebina delavnice (3 ure)\n\n  \nVsebina delavnice\n\nArhitektura vrednosti: Kako oblikovati produkt\, ki ga kupci dejansko potrebujejo (in zakaj je to ključni pogoj razpisa P2).\nSvetovalnica v živo: Analiza poslovnih modelov udeležencev. Pogledali bomo\, kje so vaše priložnosti za optimizacijo in kje tveganja.\nRazpis P2 2026: Pregled pogojev razpisa\, točkovanja in praktični nasveti za uspešno prijavo na podlagi vašega tržnega potenciala.\n\n  \nO izvajalcu\n \nMitja Mikuž (Primorski tehnološki park) Mitja je specialist za vitko podjetništvo (Lean Startup)\, ki že več kot desetletje pomaga mladim ekipam graditi skalabilne poslovne modele. Z globokim poznavanjem startup ekosistema in bogatimi izkušnjami pri pripravi podjetij na razpise\, Mitja združuje praktične nasvete za rast na trgu s strateško pripravo na pridobivanje nepovratnih sredstev. \nKje in kdaj?\nČetrtek\, 12. 2. 2026\, ob 14.00 (trajanje 3 ure). \nKje: Prostor N19\, Primorski tehnološki park. \nPrijave: Število mest je omejeno\, prijave so obvezne. \n \nAktivnost/dogodek je v okviru JR podporno okolje 2026 – 2029 sofinancirana iz sredstev Evropskega sklada za regionalni razvoj\, Ministrstva za gospodarstvo\, turizem in šport ter SPIRIT Slovenija\, javne agencije.
URL:https://www.primorski-tp.si/dogodek/arhitektura-uspesnega-podjetja-zgradite-model-ki-osvoji-kupce/
CATEGORIES:delavnice,PTP dogodki
ATTACH;FMTTYPE=image/jpeg:https://www.primorski-tp.si/wp-content/uploads/2026/01/01_PTP_Mitja_masterclass-februar-FB_event.jpg
END:VEVENT
BEGIN:VEVENT
DTSTART;VALUE=DATE:20260224
DTEND;VALUE=DATE:20260318
DTSTAMP:20260421T192152
CREATED:20260130T142408Z
LAST-MODIFIED:20260216T144158Z
UID:61572-1771891200-1773791999@www.primorski-tp.si
SUMMARY:Spodbujanje kreativnosti in inovativnosti v turizmu
DESCRIPTION:Odprte so prijave na izobraževalni program\, zasnovan za spoznavanje orodij\, s katerimi lahko umetno inteligenco spremenite v dejanski motor rasti. \n\nPRIJAVE DO 10. 2. 2026 \nREZERVIRAJTE SVOJE MESTO!\nZačenja se izobraževalni program\, ki bo podjetja\, združenja in svetovalce s področja turizma in kulture spremljal pri uvajanju inovacijskih in razvojnih poti v čezmejnem prostoru med Italijo in Slovenijo. Gre za edinstveno priložnost\, da brezplačno pridobite orodja in predvsem metode za izkoriščanje vseh razvojnih priložnosti\, ki so danes na voljo manjšim organizacijam\, ki ustvarjajo vrednost na našem območju. \nMed udeleženci bodo izbrane nekatere organizacije/podjetja/svetovalci\, ki bodo lahko dostopali do nadaljevalnega individualnega mentorskega programa – edinstvene priložnosti za praktično uporabo pridobljenega znanja v lastnem okolju\, ob podpori izkušenih senior svetovalcev. \nProgram bo izveden v dveh enakih izvedbah:– ena v Sloveniji– ena v Italiji(obe se začneta v tednu od 23. februarja). \n⚠️ Število mest je omejeno – prijavite se do 10. februarja 2026. \nCILJ\nCilj programa je turističnim in kulturnim deležnikom (vodnikom\, agencijam\, kulturnim združenjem\, restavracijam\, turističnim kmetijam\, hotelom ipd.) prenesti sposobnost strateškega inoviranja produktov in storitev\, s pomočjo inovativne metodologije\, ki jo je razvil inštitut Kersnikova iz Ljubljane: Innovation Catalyst. \nProgram uči\, kako zagnati inovacijske procese v združenjih\, podjetjih in turističnih dejavnostih v čezmejnem prostoru med Italijo in Slovenijo ter kako praktično uporabljati nekatere ključne AI-orodja\, s poudarkom na terenskih vajah. \nPoudarek ne bo zgolj na razlagi uporabe orodij\, aplikacij ali spletnih strani\, temveč predvsem na kritičnem pristopu\, ki omogoča\, da umetna inteligenca postane resnična dodana vrednost za podjetja\, združenja\, svetovalce in širše okolje ter spodbuja avtentičnost in izvirnost čezmejne regije. \n\nSKUPNO TRAJANJE\n24 ur \n\nURNIK\n\n\n\n\n\nDatum\nUra\nLokacija\n\n\n\n\n26. 2. 2026 (prestavljeno s 24.2. na 26.2.)\n9.00–15.00\nPrimorski tehnološki park\n\n\n3. 3. 2026\n9.00–13.00\nOnline\n\n\n10. 3. 2026\n9.00–13.00\, 14.00–18.00\nPrimorski tehnološki park\n\n\n13. 3. 2026\n16.00–18.00\nOnline\n\n\n17. 3. 2026\n9.00–13.00\nPrimorski tehnološki park\n\n\n\n\n\n\nLOKACIJA PREDAVANJ V ŽIVO\nPrimorski tehnološki park\, prvo nadstropje\, soba N19 \n\nKDO SE LAHKO UDELEŽI\nProgram je namenjen: podjetjem (lastniki\, zaposleni ali sodelavci)\, združenjem\, samostojnim svetovalcem\,ki delujejo na področju turizma in kulture v čezmejnem prostoru. \nPrimeri upravičenih dejavnosti (seznam ne izkjlučuje drugih vrst ponudnikov): kulturna združenja\, Pro Loco in druge turistične organizacije\, restavracije / turistične kmetije / gostinske dejavnosti\, hoteli / B&B / nastanitvene zmogljivosti\, turistične agencije\, turistični vodniki\, vinarji\, umetniška in obrtna dejavnost\, turistični in kulturni svetovalci. \nNAČIN PRIJAVE\nZa prijavo je potrebno do 10. februarja 2026 izpolniti prijavni obrazec na tej spletni strani \nNa voljo je največ 20 mest na posamezno izvedbo. Prijave nad to številko bodo uvrščene na čakalni seznam. \n\nPOGOJI UDELEŽBE\nUdeleženci morajo obiskovati vsaj 70 % vseh predvidenih ur. \n\nCENA\nProgram je v celoti brezplačen\, zahvaljujoč podpori programa INTERREG ITALIJA–SLOVENIJA 2021–2027 – Projekt BEST.Pogoj je udeležba na najmanj 70 % predavanj. \n\nVSEBINA PROGRAMA\nMODUL 1: »Metoda Innovation Catalyst v turističnem sektorju«\n26.2.2026; 9.00  – 15.00 \n6 ur – v živo \nCilj:Razumeti pomen projektnega pristopa k inovacijam in osvojiti uporabo metode Innovation Catalyst. \nVsebina: \npomen projektnega pristopa pri inovacijah \n10 faz metode Innovation Catalyst \nkulturni turizem: kultura in umetnost kot gonilo turizma \ntehnike razmišljanja izven okvirjev \noblikovanje multidisciplinarnih ekip (vključevanje umetnikov in kreativcev) \nštudije primerov iz prakse \nindividualna praktična vaja: načrt inovacijskega procesa \n\nMODUL 2: »Trajnostni turizem«\n2 uri – online \nCilj:Spodbuditi razmislek o trajnostnih pristopih v organizaciji in promociji turističnih ponudb. \nVsebina: \nAgenda 2030\, strategije in dobre prakse \nštudija primera: trajnost kot poslovna priložnost \n\nMODUL 3: »UI – etika\, tveganja in strateški pristop«\n4 ure – online \nCilj:Prenos osnovnih interdisciplinarnih znanj za kritično in pravilno uporabo orodij umetne inteligence. \nVsebina:\nA – Kako delujejo veliki jezikovni modeli (LLM) \nosnove delovanja LLM \nprompt engineering: kako izkoristiti potencial AI \nB – Tveganja\, etika in AI Act \ntveganja AI v turizmu \nzakonodajne obveznosti (AI Act) \nC – Ustvarjanje prave vrednosti z AI \npodatki in data-driven pristop \n\nMODUL 4: »AI-orodja za turistične ponudnike\, podjetja in svetovalce«\n8 ur – v živo \nCilj:Uporaba AI-orodij za zagon inovacijskih procesov\, s poudarkom na kritični in premišljeni rabi. \nVsebina: \nAI-orodja za takojšnjo uporabo (Google Notebook LM) \nustvarjanje videov z ohranjanjem avtentičnosti \nchatbot rešitve in osnovne avtomatizacije \npregled trga\, prednosti in slabosti rešitev \nNapredna uporaba AI: \noptimizacija dobavnih verig \npametne rešitve za nastanitve \nupravljanje z energijo in odpadki \n\nMODUL 5: »UI in metoda Innovation Catalyst – kreativna in inovativna raba AI«\n4 ure – v živo \nCilj:Uporaba AI kot orodja za spodbujanje kreativnosti\, sodelovanja in razvoja novih projektov. \nVsebina: \nAI-podprt brainstorming in timsko delo \npraktične delavnice
URL:https://www.primorski-tp.si/dogodek/ai-za-turisticne-ponudnike-v-cezmejnem-prostoru/
CATEGORIES:delavnice,PTP dogodki
ATTACH;FMTTYPE=image/png:https://www.primorski-tp.si/wp-content/uploads/2026/01/BEST-TRAINING_orizzontale.png
END:VEVENT
BEGIN:VEVENT
DTSTART;TZID=Europe/Ljubljana:20260225T083000
DTEND;TZID=Europe/Ljubljana:20260225T173000
DTSTAMP:20260421T192152
CREATED:20260212T193021Z
LAST-MODIFIED:20260213T092102Z
UID:61631-1772008200-1772040600@www.primorski-tp.si
SUMMARY:Startup trening za prijavo na razpis P2 2026 Nova Gorica
DESCRIPTION:Ključne informacije za v koledar\nKDAJ? 25. 2. 2026 od 08:30 – 17:30 \nKJE? Primorski tehnološki park\, Mednarodni prehod 6\, Vrtojba\, 5290 Šempeter pri Gorici \nIZVAJALEC: Primorski tehnološki park d.o.o. \n\nPRIJAVA\n\nProgram\n08:30 – 09:00 Registracija\, prihod udeležencev in pozdrav\n09:00 – 10:30 Predstavitev razpisa  \nPodrobna predstavitev javnega razpisa P2 in postopka oddaje vlog\, s poudarkom na vsebinski prijavnici\, finančnem načrtu in administrativnih pogojih prijave. Kratka predstavitev drugih spodbud Sklada in širšega ekosistema za inovativna zagonska podjetja. \n10:30 – 11:00 Odmor za kavo in mreženje \n11:00 – 12:30 Vsebinska obrazložitev in napotki za izpolnjevanje prijavnice\nPredstavitve in praktične vaje s področja razvoja inovativne poslovne ideje\, s poudarkom na vključevanju trajnostnih vidikov\, izgradnje poslovnega modela z uporabo orodja kanvas poslovnega modela (‘business model canvas’)\, priprave kratke predstavitve (‘pitch’) v video formatu\,  ustanovitve podjetja in ključnih kazalnikov uspešnosti poslovanja. \n12:30 – 13:30 Odmor za kosilo\n13:30 – 14:30 Priprava pitcha  \nPriprava kratke predstavitve (‘pitch’) v video formatu \n14:30 – 16:00 Pitch inovativnih idej udeležencev/projektov\nKratke (90s) predstavitve oz. pitch-i inovativnih poslovnih idej udeležencev. Na Pitche bodo povabljeni relevantni deležniki inovativnega zagonskega ekosistema\, to so uveljavljena start-up podjetja\, investitorji\, start-up mentorji\, ekspertni svetovalci\, z namenom zagotoviti povratno informacijo in podati predloge za izboljšanje. Pitch vašega projekta je pogoj za izdajo potrdila o udeležbi (obrazec 6 razpisne dokumentacije). \n16:00 – 16:30 Odmor za kavo in mreženje\n16:30 – 17:30 Individualna 10 minutna svetovanja\nVsakemu udeležencu bomo na podlagi slišanega pitcha omogočili kratka (največ 10 min) individualna svetovanja glede izvodljivosti in nadgradnje inovativne poslovne ideje. \n\nPRIJAVA\n\nRok za prijavo\nPrijave bodo odprte do torka\, 24. februarja do 12.00 ure\, oziroma do zapolnitve prostih mest. Po tem roku prijava na trening več ne bo mogoča. \nObveščanje o lokaciji izvedbe\nPotrditev o razvrstitvi na lokacijo prejmete na svoj elektronski naslov najkasneje v 24 urah od oddane prijave (od ponedeljka do petka)\, oziroma najkasneje v torek 24. februarja do 16. ure. V kolikor vam ne bomo mogli zagotoviti mesta na izbrani lokaciji Vrtojba\, Primorski tehnološki park\, boste v istem sporočilu prejeli obvestilo\, da izberete lokacijo s še razpoložljivimi kapacitetami. \nPredpriprave na trening\nPredlagamo\, da pred treningom preučite pripravljeno gradivo in si s tem zagotovite učinkovito delo. \nPRENESI GRADIVO \nDodatne informacije\nZa dodatne informacije v zvezi z izvedbo treninga pišite na mitja.mikuž@primorski-tp.si. \nZa dodatne informacije v zvezi s pogoji razpisa in prijavo na razpis pišite na info@podjetniskisklad.si. \nMentorji\, ki bodo izvajali trening\n\n\n\n\nKdo je Mitja Mikuž? \nMitja je vodja podjetniških programov v Primorskem tehnološkem parku. Ti vodijo podjetnike skozi proces iskanja poslovne priložnosti na trgu\, oblikovanja produkta po meri kupcev\, postavljanja prodajnega lijaka in celostnega razvoja podjetja. V parku deluje že več kot 10 let in v tem času mu je z ekipo uspelo razviti celostni inkubacijski proces ter močno startup skupnost. Dovolj zgovoren je podatek\, da je v teh letih čez njegove roke šlo že 250 podjetij in podjetniških idej. Je vodja startup akademije in organizator mentorskega programa v Novi Gorici. \n\n\n\n\n\n\n\nKdo je Katja Pregelj? \nKatja Pregelj iz Primorskega tehnološkega parka se odlikuje v vodenju mednarodnih (evropskih) projektov in strategijah za spodbujanje rasti start-upov na Goriškem. Njeno delo z razpisi iz programov EU (Interreg\, Erasmus+\, Norveški finančni mehanizem in drugo) ter spretnost v gradnji partnerstev znatno prispevata k podpori lokalnih podjetij. Z bogatimi izkušnjami v upravljanju EU razpisov Katja start-upom omogoča dostop do znanja in povezav\, ki vodijo do rasti podjetja. Na prihajajočem dogodku bo podrobneje predstavila specifike razpisa P2. \n\n\n\n\n\n\n\nKdo je Tajda Marinič? \nTajda Marinič je soustanoviteljica podjetja Alias plus d.o.o.\, specializiranega za pridobivanje slovenskih in evropskih nepovratnih sredstev z 93% uspešnostjo. Podjetjem svetuje pri pripravi in izvedbi razpisnih vlog ter jih podpira skozi celoten proces prijave. Deluje tudi kot strokovnjakinja za digitalizacijo in razvoj podjetij ter aktivno deli znanje o tem\, kako lahko podjetja učinkovito izkoristijo nepovratna sredstva za rast\, inovacije in dolgoročno konkurenčnost. \n  \n\n\n\n\n\n\n\nKdo je Luka Pregelj? \nLuka Pregelj je podjetnik\, pravnik in poslovni mentor z več kot desetletnimi izkušnjami v podjetniškem in investicijskem okolju. Podjetja vodi skozi proces\, kako iz ideje izluščiti jasen problem in vrednost za kupca\, oblikovati prepričljivo zgodbo (pitch deck) ter se učinkovito pripraviti na vprašanja žirije in pogajanja z investitorji. Bil je soustanovitelj in direktor podjetja Quantifly – finalista izbora za Startup leta 2023 –\, ki je zbralo več kot 800.000 EUR tveganega kapitala in bilo prodano leta 2025. Je soustanovitelj programa Pot do uspeha ter kot predavatelj in mentor sodeluje v različnih programih za startup ekipe. \n  \n\n\n\nO Primorskem tehnološkem parku\nPrimorski tehnološki park podjetnikom omogoča rast in razvoj. Njihova ekipa se posveča celostni obravnavi podjetnikov v različnih razvojnih fazah\, vključno z mentorstvom\, ekspertnim svetovanjem\, delavnicami na temo najnovejših podjetniških praks\, ter ustvarja priložnosti za mreženje med podjetniki\, investitorji in drugimi pomembnimi akterji. Vse te storitve so za podjetnike brezplačne\, ker PTP vire zanje poišče na evropskih in nacionalnih skladih ter na trgu. Poudarek je na gradnji dinamične\, poštene in sodelovalne podjetniške skupnosti\, ki temelji na inovativnosti in vzajemnosti. Prepričani so\, da vračanje v skupnost prispeva k bogatenju družbe. \nFinancer in naročnik:  \n \nProgram sofinancirata Slovenski podjetniški sklad in Evropska unija\, in sicer iz Evropskega sklada za regionalni razvoj. Izvaja se na podlagi  programa “Vsebinska podpora za hitrejšo globalno in trajnostno rast inovativnih MSP (RazvojniPlus program)” v okviru Programa evropske kohezijske politike v obdobju od 2021 do 2027.
URL:https://www.primorski-tp.si/dogodek/startup-trening-za-prijavo-na-razpis-p2-2026-nova-gorica/
CATEGORIES:delavnice,PTP dogodki
ATTACH;FMTTYPE=image/jpeg:https://www.primorski-tp.si/wp-content/uploads/2026/02/Razpis-P2-2026-Nova-Gorica-landscape.jpg
END:VEVENT
END:VCALENDAR