BEGIN:VCALENDAR
VERSION:2.0
PRODID:-//Primorski tehnološki park - ECPv6.10.2//NONSGML v1.0//EN
CALSCALE:GREGORIAN
METHOD:PUBLISH
X-ORIGINAL-URL:https://www.primorski-tp.si
X-WR-CALDESC:Dogodki za Primorski tehnološki park
REFRESH-INTERVAL;VALUE=DURATION:PT1H
X-Robots-Tag:noindex
X-PUBLISHED-TTL:PT1H
BEGIN:VTIMEZONE
TZID:Europe/Ljubljana
BEGIN:DAYLIGHT
TZOFFSETFROM:+0100
TZOFFSETTO:+0200
TZNAME:CEST
DTSTART:20260329T010000
END:DAYLIGHT
BEGIN:STANDARD
TZOFFSETFROM:+0200
TZOFFSETTO:+0100
TZNAME:CET
DTSTART:20261025T010000
END:STANDARD
END:VTIMEZONE
BEGIN:VEVENT
DTSTART;TZID=Europe/Ljubljana:20260319T090000
DTEND;TZID=Europe/Ljubljana:20260319T120000
DTSTAMP:20260421T192658
CREATED:20260306T083652Z
LAST-MODIFIED:20260309T125533Z
UID:61851-1773910800-1773921600@www.primorski-tp.si
SUMMARY:Delaj pametneje: GenAI za startupe in podjetnike
DESCRIPTION:PTP AI Business Lab\nGenerativna umetna inteligenca hitro spreminja način dela v podjetjih. Na tej praktični delavnici boste spoznali\, kako lahko GenAI postane vaš vsakodnevni poslovni asistent – pri razvoju idej\, pripravi vsebin\, analizi informacij in izboljšanju produktivnosti. \nDelavnica je namenjena startup ekipam\, podjetnikom in zaposlenim v malih in srednjih podjetjih\, ki želijo umetno inteligenco uporabljati konkretno\, učinkovito in brez “hypea”. \nUdeleženci bodo poleg pregleda najnovejših orodij tudi aktivno preizkusili tehnike uporabe AI na primerih iz prakse. \n\nZakaj sodelovati?\nNa delavnici boste: \n✔ spoznali najnovejše trende in zmožnosti generativne umetne inteligence✔ dobili pregled najpomembnejših orodij: ChatGPT\, MS Copilot\, Gemini\, Claude\, Perplexity\, Manus✔ razumeli\, kako uporabljati GenAI kot asistenta za večjo produktivnost✔ osvojili osnove učinkovitega promptinga✔ spoznali praktične tips & tricks za delo z AI✔ vadili uporabo AI na konkretnih primerih iz poslovnega okolja✔ razpravljali o etičnih vidikih\, tveganjih in odgovorni uporabi AI \nPoseben poudarek delavnice je na spremembi miselnosti (mindset shift) – kako razmišljati in delati drugače\, da lahko umetno inteligenco res učinkovito vključite v vsakodnevno delo. \n\nDELAVNICA BO IZVEDENA SAMO V ŽIVO\, 19.3.2026 OB 9.00\, PREDAVALNICA 1 V PRITLIČJU PTP.  \n\n\nInteraktivni del\nDelavnica vključuje tudi praktične vaje\, kjer boste: \n\npreizkusili komunikacijo z AI orodji\nvadili pisanje in izboljševanje promptov\niterirali odgovore in jih prilagajali svojemu primeru\nuporabili AI na primerih iz vaše panoge ali podjetja\n\nCilj je\, da po delavnici AI ne boste le razumeli\, ampak ga tudi začeli uporabljati v praksi. \n\nO predavatelju\n \nEnej Gradišek\nEnej Gradišek je magister mednarodnega poslovanja\, facilitator in strokovnjak za uporabo generativne umetne inteligence v organizacijah. \nŽe več kot deset let dela z ekipami in vodstvi na področjih: \n\nrazvoja poslovnih modelov\nstrategije\nizboljšanja procesov\nvodenja sprememb\n\nV zadnjih dveh letih je izvedel več kot 400 delavnic na področju GenAI in sodeloval z več kot 250 startup ter razvojnimi ekipami. \nPri svojem delu povezuje uporabo generativne umetne inteligence z metodologijami: \n\nDesign Thinking\nLean Startup\nAgilni pristopi\n\nJe certificiran Scrum Master in Product Owner\, vodi Design Sprint procese ter redno predava na strokovnih dogodkih in konferencah. \nNjegov pristop je izrazito praktičen – cilj delavnic je\, da se način dela ekip po dogodku dejansko spremeni\, ne le razume. \nVeč o predavatelju:https://www.facilitribe.com/enejgradisek \n\nKomu je delavnica namenjena\nDelavnica je primerna za: \n\nstartup ustanovitelje\npodjetnike\nvodje projektov in produktov\nmarketing ekipe\nvse\, ki želijo AI vključiti v svoje delo\n\nPredznanje ni potrebno. \n\nPrijava\nŠtevilo mest je omejeno. \n👉 Prijavite se preko prijavnega obrazca. \nPRIPOROČAMO TUDI: https://www.primorski-tp.si/dogodek/kreativna-uporaba-ai-v-marketingu/ \nAktivnost se izvaja v okviru JR Start-up konzorcij in jo sofinancirata Republika Slovenija in Evropska unija\, in sicer iz Evropskega sklada za regionalni razvoj v okviru Programa evropske kohezijske politike v obdobju od 2021 do 2027.
URL:https://www.primorski-tp.si/dogodek/delaj-pametneje-genai-za-startupe-in-podjetnike/
CATEGORIES:delavnice,PTP dogodki
ATTACH;FMTTYPE=image/jpeg:https://www.primorski-tp.si/wp-content/uploads/2026/03/01_PTP_digital_skills_masterclass-marec-02-scaled.jpg
END:VEVENT
BEGIN:VEVENT
DTSTART;TZID=Europe/Ljubljana:20260319T130000
DTEND;TZID=Europe/Ljubljana:20260319T160000
DTSTAMP:20260421T192658
CREATED:20260306T085017Z
LAST-MODIFIED:20260309T125458Z
UID:61861-1773925200-1773936000@www.primorski-tp.si
SUMMARY:Kreativna uporaba AI v marketingu
DESCRIPTION:PTP AI Business Lab\nKreativna uporaba AI v marketingu\n\nKako lahko umetna inteligenca postane vaš kreativni sodelavec pri marketingu? \n\nNa praktični delavnici boste spoznali\, kako generativno umetno inteligenco uporabiti za razvoj idej\, pripravo marketinških konceptov in ustvarjanje vsebin\, ki jih lahko takoj uporabite v kampanjah. \nDelavnica je namenjena marketing ekipam\, podjetnikom in ustvarjalcem\, ki želijo AI uporabljati ne le za avtomatizacijo\, ampak predvsem za povečanje kreativnosti in hitro testiranje idej. \n\nKaj boste ustvarili na delavnici\nUdeleženci bodo skozi vodene vaje v realnem času zgradili mini marketinško kampanjo – od ideje do izvedbe. \nNa delavnici boste: \n✔ oblikovali jasen creative brief✔ razvili več konceptov oglasov✔ pripravili ključna sporočila in ton komunikacije✔ ustvarili osnutke kreativnih materialov \nRezultat delavnice bodo konkretni primeri\, ki jih lahko takoj uporabite v praksi: \n\nbesedila za kampanje\nkoncepti vizualov\nosnutek kratkega videa\npreprost zvočni element za vsebino\n\n\nOrodja\, ki jih bomo uporabljali\nNa delavnici boste praktično preizkusili uporabo AI orodij za kreativno delo: \n\nChatGPT\nGemini\nClaude\nElevenLabs\nSuno\n\nUdeleženci bodo dobili tudi dostop za testiranje orodij na delavnici in še 1 mesec po njej. \n\nKomu je delavnica namenjena\nDelavnica je primerna za: \n\nmarketing ekipe\nstartup ustanovitelje\npodjetnike\nustvarjalce vsebin\nvodje blagovnih znamk\n\nPrimerna je tako za začetnike kot za tiste\, ki AI že uporabljajo\, saj je fokus na kreativni uporabi in praktičnem delu. \n  \n\nDELAVNICA BO IZVEDENA SAMO V ŽIVO\, 19.3.2026 OB 9.00\, PREDAVALNICA 1 V PRITLIČJU PTP. \n\n  \n\nO predavatelju\nDomen Dan Gaiman\nhttps://www.linkedin.com/in/domendangaiman/ \nDomen Dan Gaiman je soustanovitelj skupine Dunking Devils\, kjer je s svojimi idejami pomagal transformirati akrobatsko skupino v globalno prepoznavno blagovno znamko. \nV zadnjih letih je vodil TikTok agencijo DD Studios\, kjer je sodeloval pri kampanjah\, ki so dosegle več kot 1 milijardo organskih video ogledov. \nDanes deluje v podjetju Elan kot vodja globalnega marketinga\, kjer združuje pripovedovanje zgodb\, tehnologijo in inovacije pri razvoju ene najbolj prepoznavnih znamk v svetu smučanja. \nZaradi globokega razumevanja digitalnih platform in uporabe umetne inteligence v kreativnem procesu velja za enega vodilnih strokovnjakov na tem področju. \nKot govorec redno nastopa na konferencah\, kot so: \n\nSlovenian Advertising Festival\nSlovenian Marketing Conference\nTEDx\n\nNa svojih predavanjih raziskuje predvsem: \n\ngrajenje blagovnih znamk\ntimsko dinamiko\nuporabo umetne inteligence v kreativnem procesu\n\nNjegova filozofija temelji na ideji\, da je umetna inteligenca predvsem orodje za nadgradnjo človeškega ustvarjalnega potenciala. \n\nPrijava\nŠtevilo mest je omejeno. \n👉 Prijavite se preko prijavnega obrazca. \nPRIPOROČAMO TUDI:https://www.primorski-tp.si/dogodek/delaj-pametneje-genai-za-startupe-in-podjetnike/ \nAktivnost se izvaja v okviru JR Start-up konzorcij in jo sofinancirata Republika Slovenija in Evropska unija\, in sicer iz Evropskega sklada za regionalni razvoj v okviru Programa evropske kohezijske politike v obdobju od 2021 do 2027.
URL:https://www.primorski-tp.si/dogodek/kreativna-uporaba-ai-v-marketingu/
CATEGORIES:delavnice,PTP dogodki
ATTACH;FMTTYPE=image/jpeg:https://www.primorski-tp.si/wp-content/uploads/2026/03/01_PTP_digital_skills_masterclass-marec-05-scaled.jpg
END:VEVENT
END:VCALENDAR