BEGIN:VCALENDAR
VERSION:2.0
PRODID:-//Primorski tehnološki park - ECPv6.10.2//NONSGML v1.0//EN
CALSCALE:GREGORIAN
METHOD:PUBLISH
X-ORIGINAL-URL:https://www.primorski-tp.si
X-WR-CALDESC:Dogodki za Primorski tehnološki park
REFRESH-INTERVAL;VALUE=DURATION:PT1H
X-Robots-Tag:noindex
X-PUBLISHED-TTL:PT1H
BEGIN:VTIMEZONE
TZID:Europe/Ljubljana
BEGIN:DAYLIGHT
TZOFFSETFROM:+0100
TZOFFSETTO:+0200
TZNAME:CEST
DTSTART:20250330T010000
END:DAYLIGHT
BEGIN:STANDARD
TZOFFSETFROM:+0200
TZOFFSETTO:+0100
TZNAME:CET
DTSTART:20251026T010000
END:STANDARD
END:VTIMEZONE
BEGIN:VEVENT
DTSTART;VALUE=DATE:20251002
DTEND;VALUE=DATE:20251003
DTSTAMP:20260421T223004
CREATED:20250708T111920Z
LAST-MODIFIED:20251008T091214Z
UID:60986-1759363200-1759363200@www.primorski-tp.si
SUMMARY:GoStartup akademija - podaljšan rok prijav!
DESCRIPTION:Iščeš odgovore na ključna vprašanja svojega podjetja?\n\n\n\nSe soočaš z: \n\nizzivi pri vstopu na nove trge\,\npočasno rastjo\,\ntežavo\, kako priti do novih kupcev\,\nvprašanjem\, ali tvoj poslovni model res deluje?\n\nGoStartup akademija je program\, zasnovan prav zate. \n Kaj ponuja program?\n\nTemelji na preizkušenih metodologijah.\nPoteka v obliki intenzivnih praktičnih delavnic.\nVodi ga ekipa izkušenih podjetnikov in mentorjev.\nOsredotočen je na razumevanje kupcev\, trga in poslovnega modela.\nVse\, kar se naučiš\, lahko takoj uporabiš v svojem podjetju.\nPomaga ti narediti preskok v razvoju – hitreje in z manj napakami.\n\n  \nVeč info in prijave   \n\n\nZa koga?\nProgram je namenjen podjetnikom\, ki so: \n\n\n\n\nv začetni fazi razvoja podjetja\,\nustanovitelji startupov\, spin-off ali spin-out podjetij\,\nravno lansirali nov izdelek\, storitev ali proces\,\ntik pred vstopom na trg z novim produktom\,\nmotivirani\, da podjetje raste in v prihodnosti ustvarja nova delovna mesta.\n\nČe želiš svoj posel nadgraditi z znanjem\, usmeritvijo in podporo izkušenih mentorjev – si na pravem mestu. \n\n\n\n\nOrganizacija in prijave\nKje? V živo\, v Primorskem tehnološkem parku v Vrtojbi\nKdaj? Od 2.10. do 20. 11. 2025 \nPRIJAVE do 29.9.2025 do 11.00\nVeč info in prijave   \n\n\nPrvi del – Product Strategy\nFokus na kupcih\, trgu\, produktu in marketingu. (2.10.2025 – 23.10.2025)\nModul se izvaja v okviru JR Start-up konzorcij in jo sofinancirata Republika Slovenija in Evropska unija\, in sicer iz Evropskega sklada za regionalni razvoj« v okviru Programa evropske kohezijske politike v obdobju od 2021 do 2027. Udeležba v programu predstavlja pomoč de minimis po shemi: »Program ukrepov MGTŠ za spodbujanje podjetništva in konkurenčnosti v obdobju 2024–2030 – de minimis« (št. sheme: M001-2632616-2024). Višina de minimis pomoči je 458\,33€ na udeleženo podjetje. \n  \n\n\n\n\n\n\nDrugi del – Business Growth\nFokus na poslovnih strategijah\, prodaji in financiranju. (3.11.2025-20.11.2025\nModul omogoča Mestna občina Nova Gorica.
URL:https://www.primorski-tp.si/dogodek/gostartup-akademija-odprte-prijave/
CATEGORIES:delavnice,PTP dogodki
ATTACH;FMTTYPE=image/jpeg:https://www.primorski-tp.si/wp-content/uploads/2025/09/podaljsan-rok-prijave-169.jpg
END:VEVENT
BEGIN:VEVENT
DTSTART;TZID=Europe/Ljubljana:20251009T150000
DTEND;TZID=Europe/Ljubljana:20251009T160000
DTSTAMP:20260421T223004
CREATED:20251003T131123Z
LAST-MODIFIED:20251007T131142Z
UID:61227-1760022000-1760025600@www.primorski-tp.si
SUMMARY:Javni poziv za podporo mladim podjetnikom in podjetnicam začetnicam
DESCRIPTION:Dogodek informiranja: Javni poziv za podporo mladim podjetnikom in podjetnicam začetnicam\nObjavljen je razpis\, namenjen spodbujanju nastanka in razvoja podjetij\, ki so jih ustanovili mladi (do vključno 29 let). Cilj razpisa je omogočiti lažji dostop do financiranja in povečati stopnjo preživetja novih podjetij. \nKaj prinaša razpis?\nSofinanciranje v višini 9.000 EUR (v dveh delih po 4.500 EUR) za kritje stroškov dela \nProjekt v dveh fazah (5 + 5 mesecev)Upravičena podjetja: ustanovljena manj kot 3 leta pred oddajo vlogeTrije roki za oddajo vlog: \n\n\n\n\n– 31. oktober 2025 \n\n\n\n\n\n\n– 30. november 2025 \n\n\n\n\n\n\n– 31. december 2025 \n\n\n\n\n Odlična priložnost za mikro\, mala in srednja podjetja v začetnih fazah poslovanja! \n\nSrečanje v PTP\nZa podjetja v PTP pripravljamo srečanje\, kjer bomo razložili podrobnosti razpisa in odgovorili na vaša vprašanja. \nKdaj: 9. oktober 2025\, 15.00 Kje: Predavalnica 1\, PTP \n \nAktivnost/dogodek je v okviru JR podporno okolje 2023 – 2025 sofinancirana iz sredstev Evropskega sklada za regionalni razvoj\, Ministrstva za gospodarstvo\, turizem in šport ter SPIRIT Slovenija\, javne agencije.
URL:https://www.primorski-tp.si/dogodek/delavnica-kako-do-sredstev-za-mlada-podjetja/
CATEGORIES:delavnice,PTP dogodki
ATTACH;FMTTYPE=image/jpeg:https://www.primorski-tp.si/wp-content/uploads/2025/10/dogodek-informiranja-oktobe-1.jpg
END:VEVENT
BEGIN:VEVENT
DTSTART;TZID=Europe/Ljubljana:20251021T090000
DTEND;TZID=Europe/Ljubljana:20251021T120000
DTSTAMP:20260421T223004
CREATED:20250901T134755Z
LAST-MODIFIED:20251009T093941Z
UID:61151-1761037200-1761048000@www.primorski-tp.si
SUMMARY:Digital Skills Masterclass: Prodajno usmerjena spletna stran in SEO
DESCRIPTION:Vabljeni na delavnico Prodajno usmerjena spletna stran in SEO. \nTo je tretja delavnica v sklopu Digital Skills Masterclass\, serije usposabljanj\, namenjenih podjetnikom in potencialnim podjetnikom\, ki želijo nadgraditi svoje digitalne spretnosti ter jih pretvoriti v rast in razvoj poslovanja. \nDatum: 21. oktober 2025Čas: 9.00 – 12.00Lokacija: Primorski tehnološki park\, soba N 19\, prvo nadstropjeIzvajalka: Ajda Novak  \n\nZakaj se udeležiti?\nSpletna stran ni le vizitka podjetja – lahko postane vaše najmočnejše prodajno orodje. Na delavnici boste izvedeli\, kako jo oblikovati tako\, da podpira prodajo\, krepi zaupanje in obiskovalce pretvarja v kupce. \n\nKaj boste izvedeli?\n\n\nKako strukturirati spletno stran\, da vodi uporabnika do nakupa ali povpraševanja. \n\n\nKatere elemente mora imeti prodajno usmerjena stran\, da zares deluje. \n\n\nKako SEO neposredno vpliva na prodajo in zakaj to ni le tehnična naloga. \n\n\nDelavnica bo praktična – udeleženci boste imeli možnost delati na svojih konkretnih primerih in pridobiti odgovore na ključna vprašanja. \n\nO predavateljici\n \nAjda Novak je strokovnjakinja z več kot 11-letnimi izkušnjami v digitalnem marketingu\, predvsem v B2B industriji. Je magistrica sociologije\, ki se je z marketingom začela ukvarjati že kot študentka v A1 Slovenija. Pred začetkom samostojne poti je bila direktorica marketinga v SaaS podjetju. Od leta 2020 svetuje podjetjem\, kako z boljšim spletnim nastopom povečati prodajo. Sodelovala je z največjimi korporacijami\, domačimi podjetji in start-up okoljem. Do danes je izvedla več kot 500 ur predavanj\, ki jih je obiskalo več kot 2.000 udeležencev. \n\nKomu je delavnica namenjena?\nPrednost pri prijavi imajo: \n\nUstanovitelji podjetij\nVodje ekip v malih in srednje velikih podjetjih (MSP)\nPotencialni podjetniki tik pred lansiranjem produkta na trg\n\n\nPrijavite se zdaj!\nDelavnica je brezplačna\, vendar je prijava obvezna zaradi omejenega števila mest. \nPriporočamo tudi: No bullsh*t UX \n\n\n \nAktivnost/dogodek je v okviru JR podporno okolje 2023 – 2025 sofinancirana iz sredstev Evropskega sklada za regionalni razvoj\, Ministrstva za gospodarstvo\, turizem in šport ter SPIRIT Slovenija\, javne agencije.
URL:https://www.primorski-tp.si/dogodek/prodajno-usmerjena-spletna-stran-in-seo/
CATEGORIES:delavnice,PTP dogodki
ATTACH;FMTTYPE=image/jpeg:https://www.primorski-tp.si/wp-content/uploads/2025/09/01_PTP_digital_skills_masterclass-oktober-02-scaled.jpg
END:VEVENT
BEGIN:VEVENT
DTSTART;TZID=Europe/Ljubljana:20251021T130000
DTEND;TZID=Europe/Ljubljana:20251021T160000
DTSTAMP:20260421T223004
CREATED:20250930T142934Z
LAST-MODIFIED:20251009T122707Z
UID:61199-1761051600-1761062400@www.primorski-tp.si
SUMMARY:Digital Skills Masterclass: Kako dobra uporabniška izkušnja (UX) dvigne spletno prodajo
DESCRIPTION:Vabljeni na delavnico v sklopu Digital Skills Masterclass: Kako dobra uporabniška izkušnja (UX) dvigne spletno prodajoDatum: 21. oktober 2025Čas: 13.00 – 16.00Lokacija: Primorski tehnološki park\, soba N 19\, prvo nadstropjeIzvajalec: Vito Kužnar \nSte vedeli\, da dobra uporabniška izkušnja lahko poveča prodajo – brez dodatnega oglaševanja? Na delavnici boste spoznali\, kako z jasnimi potmi\, zaupanjem in psihologijo nakupa prodati več\, hitreje in dražje. \nDelavnica se bo osredotočila na izboljšanje uporabniške izkušnje (UX) spletnih strani. \n Vsebina delavnice: \n\nVoditi kupca po jasni poti do nakupa\nUstvarite zaupanje s “social proof” pristopom\nFOMO (fear of missing out) za spodbuditev hitrejših odločitev\nS sidranjem cene prodajte dražji izdelek\nZmanjšate neprodano zalogo\nPridobite in učinkovito uporabite povratne informacije\nKatere so najbolj uporabne UX rešitve in orodja\nPrimeri iz resničnega sveta\, ki dokazano delujejo\n\nBONUS: Pregled\, analiza in predlog sprememb produktov/storitev udeležencev \nKomu je namenjena: \nDelavnica je namenjena podjetjem\, ki imajo že razvite spletne trgovine in želijo usmeritev kako povečati prodajo. \nZahtevnost: \n\nPredznanje ni potrebno\n\nO predavatelju \n \nVito Kužnar strokovnjak z 10 leti izkušenj na področju UI in UX oblikovanja. Oblikoval je spletne trgovine za večja slovenska podjetja kot so Lumenia\, SolidWorld\, Efekt svetila\, Zlatarna Sterle\, Omega Air\, Marles hiše\, Comshop… Sedaj je zaposlen v visokotehnološkem podjetju Datalab\, kjer vodi preobrazbo uporabniške izkušnje informacijskega sistema (ERP) PANTEHON v spletno različico. \nSkozi kariero je hitro spoznal\, da številne stranke vztrajajo pri svojih odločitvah brez kakršnihkoli utemeljitev. Namesto da bi se prepiral\, se je odločil raziskati obnašanje uporabnikov in graditi odločitve na dejstvih. \nPrijavite se zdaj!\nDelavnica je brezplačna\, vendar je prijava obvezna zaradi omejenega števila mest. \nPriporočamo tudi: \n\n\n \nAktivnost/dogodek je v okviru JR podporno okolje 2023 – 2025 sofinancirana iz sredstev Evropskega sklada za regionalni razvoj\, Ministrstva za gospodarstvo\, turizem in šport ter SPIRIT Slovenija\, javne agencije.
URL:https://www.primorski-tp.si/dogodek/digital-skills-masterclass-no-bullsht-ux/
CATEGORIES:delavnice,PTP dogodki
ATTACH;FMTTYPE=image/jpeg:https://www.primorski-tp.si/wp-content/uploads/2025/09/01_PTP_digital_skills_masterclass-oktober-05-1.jpg
END:VEVENT
BEGIN:VEVENT
DTSTART;TZID=Europe/Ljubljana:20251021T160000
DTEND;TZID=Europe/Ljubljana:20251021T190000
DTSTAMP:20260421T223004
CREATED:20251008T090445Z
LAST-MODIFIED:20251008T090445Z
UID:61249-1761062400-1761073200@www.primorski-tp.si
SUMMARY:GoStartup mreženje – 21. 10. 2025
DESCRIPTION:Vabimo vas na mreženjski dogodek GoStartup mreženje\, ki bo 21. 10. 2025 od 16.00 do 19.00 v Primorskem tehnološkem parku.\nDogodek je namenjen vsem\, ki želijo izkoristiti priložnosti za mreženje\, izmenjavo izkušenj in poslovnih kontaktov\, spodbujanje sodelovanj ter iskanje sinergij. Prav tako bomo na dogodku identificirali nove podjetnike\, primerne za inkubacijo\, ter inovativne posameznike s potencialom za razvoj poslovnih idej. \nDogodek bo odlična priložnost za: \n\nspoznavanje drugih podjetnikov in inovativnih posameznikov\,\npridobivanje novih poslovnih kontaktov\,\nizmenjavo znanj in izkušenj\,\nodkrivanje novih poslovnih priložnosti\,\nidentificiranje potencialnih kandidatov za inkubacijo.\n\n  \n»Aktivnost se izvaja v okviru JR Start-up konzorcij in jo sofinancirata Republika Slovenija in Evropska unija\, in sicer iz Evropskega sklada za regionalni razvoj« v okviru Programa evropske kohezijske politike v obdobju od 2021 do 2027. \n \n 
URL:https://www.primorski-tp.si/dogodek/gostartup-mrezenje-21-10-2025/
CATEGORIES:PTP dogodki
ATTACH;FMTTYPE=image/jpeg:https://www.primorski-tp.si/wp-content/uploads/2025/02/GoStartup-klub.jpg
END:VEVENT
END:VCALENDAR