BEGIN:VCALENDAR
VERSION:2.0
PRODID:-//Primorski tehnološki park - ECPv6.10.2//NONSGML v1.0//EN
CALSCALE:GREGORIAN
METHOD:PUBLISH
X-ORIGINAL-URL:https://www.primorski-tp.si
X-WR-CALDESC:Dogodki za Primorski tehnološki park
REFRESH-INTERVAL;VALUE=DURATION:PT1H
X-Robots-Tag:noindex
X-PUBLISHED-TTL:PT1H
BEGIN:VTIMEZONE
TZID:Europe/Ljubljana
BEGIN:DAYLIGHT
TZOFFSETFROM:+0100
TZOFFSETTO:+0200
TZNAME:CEST
DTSTART:20250330T010000
END:DAYLIGHT
BEGIN:STANDARD
TZOFFSETFROM:+0200
TZOFFSETTO:+0100
TZNAME:CET
DTSTART:20251026T010000
END:STANDARD
END:VTIMEZONE
BEGIN:VEVENT
DTSTART;TZID=Europe/Ljubljana:20251104T090000
DTEND;TZID=Europe/Ljubljana:20251104T120000
DTSTAMP:20260421T205808
CREATED:20251024T095246Z
LAST-MODIFIED:20251215T105802Z
UID:61477-1762246800-1762257600@www.primorski-tp.si
SUMMARY:Marketing za startupe
DESCRIPTION:Kako doseči velike rezultate z majhnim proračunom\nPraktična  delavnica za podjetnike začetnike in vse\, ki razmišljate o svoji podjetniški poti. \nImate poslovno idejo\, produkt ali storitev\, pa ne veste\, kako jo predstaviti trgu – brez dragih oglasov in marketinških agencij?Na tej delavnici boste spoznali\, kako se lotiti marketinga pametno\, vitko in učinkovito\, tudi če imate na voljo zelo omejen proračun. \n\nKomu je delavnica namenjena?\n\n\npodjetnikom začetnikom \n\n\npotencialnim podjetnikom z idejo \n\n\nstartup ekipam v zgodnji fazi \n\n\nštudentom\, raziskovalcem in vsem\, ki želite preveriti svojo idejo na trgu \n\n\nPredznanje ni potrebno – delavnica je praktična in prilagojena začetnikom. \n\nKaj boste na delavnici izvedeli?\nNa delavnici boste dobili konkretna znanja in orodja\, ki jih lahko uporabite takoj po dogodku: \n\n\nkatere marketinške aktivnosti so brezplačne (ali skoraj brezplačne)\, \n\n\nkako graditi prepoznavnost brez plačljivega oglaševanja\, \n\n\nkako učinkovito uporabljati družbena omrežja\, e-poštni marketing in SEO\, \n\n\nkako izbrati prave 2–3 kanale\, namesto da ste povsod\, \n\n\nkako pripraviti enostaven in izvedljiv marketinški načrt za prvih 30 dni\, \n\n\nzakaj je pogovor s strankami najpomembnejše marketinško orodje. \n\n\nDelavnica temelji na pristopu vitkega (lean) marketinga – majhni koraki\, hitri testi in učenje iz prakse. \n\nProgram delavnice (9.00–12.00)\n1. Osnove startup marketinga \n\n\nzakaj je marketing za startupe drugačen\, \n\n\nrazlika med korporativnim in startup marketingom\, \n\n\nkaj je vitki (lean) marketing in zakaj deluje. \n\n\n2. Marketinški kanali in orodja z majhnim proračunom \n\n\nosebni stik\, mreženje\, dogodki in pitching\, \n\n\ndigitalni kanali: spletna stran\, družbena omrežja\, e-mail marketing\, \n\n\nbrezplačna in dostopna orodja (Canva\, AI orodja\, Mailchimp …)\, \n\n\nkako izbrati prave kanale glede na ciljno skupino. \n\n\n3. Praktične vaje \n\n\nopredelitev ciljne stranke (persona)\, \n\n\noblikovanje jasne vrednostne ponudbe\, \n\n\nmini marketinški načrt:– 2 kanala– 3 aktivnosti– osnovni kazalniki uspešnosti \n\n\n\nPredavateljica\nMarjana Šimčič HumarVodja marketinga in podjetniška mentorica v Primorskem tehnološkem parku \nMarjana ima dolgoletne izkušnje na področju marketinga\, komuniciranja in podpore startup ekosistemu v Sloveniji. Kot vodja marketinga v Primorskem tehnološkem parku je sodelovala pri številnih podjetniških programih in iniciativah\, kot je GoStartup Akademija\, ter pomagala mladim podjetnikom pri vstopu na domače in tuje trge. \nNjeno delo temelji na kombinaciji: \n\n\ndigitalnega marketinga\, \n\n\nodnosov z javnostmi\, \n\n\nosebnega brandinga\, \n\n\nskupnostnega in mreženjskega pristopa. \n\n\nNjen slog poučevanja je praktičen\, neposreden in usmerjen v orodja\, ki jih startupi lahko uporabljajo takoj – brez velikih proračunov. \n\nKdaj in kje?\nDatum: 4. november 2025Ura: 9.00–12.00Lokacija: Primorski tehnološki parkSAMO V ŽIVO \n\nZakaj se udeležiti delavnice?\n\n\nker marketing ni samo za velika podjetja\, \n\n\nker ne potrebujete popolnosti\, ampak prve korake\, \n\n\nker boste odšli z jasnim načrtom in konkretno usmeritvijo\, \n\n\nker boste spoznali\, kako z malo sredstvi doseči prave ljudi. \n\n\n\nPrijavite se zdaj\nŠtevilo mest je omejeno.Pridružite se in se naučite\, kako svojo podjetniško idejo uspešno predstaviti trgu – pametno in brez nepotrebnih stroškov. \nAktivnost/dogodek je v okviru JR podporno okolje 2023 – 2025 sofinancirana iz sredstev Evropskega sklada za regionalni razvoj\, Ministrstva za gospodarstvo\, turizem in šport ter SPIRIT Slovenija\, javne agencije.
URL:https://www.primorski-tp.si/dogodek/marketing-za-startupe/
CATEGORIES:delavnice,PTP dogodki
ATTACH;FMTTYPE=image/jpeg:https://www.primorski-tp.si/wp-content/uploads/2025/12/marketing-za-startupe.jpg
END:VEVENT
BEGIN:VEVENT
DTSTART;TZID=Europe/Ljubljana:20251118T090000
DTEND;TZID=Europe/Ljubljana:20251118T120000
DTSTAMP:20260421T205808
CREATED:20251103T083906Z
LAST-MODIFIED:20251117T130240Z
UID:61335-1763456400-1763467200@www.primorski-tp.si
SUMMARY:Trening javnega nastopanja za podjetnike
DESCRIPTION:Vabimo vas na peto delavnico v seriji  Digital Skills Masterclass v Primorskem tehnološkem parku. Gre za serijo osmih intenzivnih delavnic\, ki pokrivajo ključna področja sodobnega komuniciranja\, digitalnega marketinga\, javnega nastopanja in grajenja blagovnih znamk. Vsaka delavnica je zasnovana praktično\, z izkušenimi predavatelji\, ki znajo snov prenesti v podjetniško realnost.Gre za znanja\, ki jih danes podjetnik nujno potrebuje – ne glede na panogo ali velikost podjetja. \n\n\n\n\n\n\n\n\n\n\n\n\nPridružite se delavnici \n\n\n\n\n\n\n\n\n\n\n\n\nTrening javnega nastopanja za podjetnike\nin spoznajte\, kako izboljšate svoj javni stop\, jasnost komunikacije\, premagate tremo in nastop prilagodite različnim javnostim \nDelavnico vodi Martina Arčon\, odgovorna urednica Radia Robin in izkušena voditeljica in moderatorka dogodkov. Udeležba je za udeležence (podjetnike) BREZPLAČNA! \nKomu je delavnica namenjena?\nVabljeni podjetniki\, člani startup ekip\, marketing managerji in člani marketinških ekip v malih in srednjih podjetjih ter potencialni podjetniki. Število mest je omejeno\, zato pohitite s prijavami. \nProgram:\nVelikokrat javni nastop povezujemo z nastopom na odru\, pred kamero\, ne zavedamo pa se\, da nastopamo vsak trenutek\, vsak dan\, ob različnih priložnostih. In prav učenju komunikacije bomo posvetili tokratno delavnico. Zakaj je pomemben prvi vtis? Kako nastopati samozavestno? Bi radi odpravili tremo? Kako pomembna je neverbalna komunikacija\, kako pripraviti govor in se nanj dobro pripraviti? Najpomembnejše pravilo se glasi: „Bodi kar si!“ Spoznaj bonton javnega nastopanja in veščine komunikacijskega prilagajanja! \n\nKljučne prvine verbalne in neverbalne komunikacije\n\n\nTehnike obvladovanja treme\nKako učinkovito strukturirati svojo predstavitev\nRazumevanje občinstva in prilagajanje sporočila\nTehnike za vzpostavljanje povezave z občinstvom\nPraktične vaje javnega nastopanja z neposredno povratno informacijo\n\n  \nO predavateljici Martini Arčon\n \nMartina Arčon je priznana strokovnjakinja za komunikacijo in odnose z javnostmi v Sloveniji in eden najbolj prepoznavnih radijskih glasov na  Primorskem. \nKot voditeljica povezuje številne prireditve\, že več kot četrt stoletja pa je zavezana poslušalcem Radia Robin\, kateremu se je pridružila že kmalu po ustanovitvi. Z delom na radiu živi svoje poslanstvo. »Največja zmaga je\, da človek v življenju počne to\, kar ima rad\, in jaz imam to srečo\,« pravi dolgoletna glavna in odgovorna urednica najbolj poslušanega radia na Goriškem\, ki svoje znanje komunikacije in javnega nastopanja rada predaja tudi naprej. \nMartina ima bogate izkušnje z razvijanjem in izvajanjem uspešnih komunikacijskih kampanj. Njeno delo vključuje sodelovanje z uglednimi podjetji ter svetovanje pri strateškem načrtovanju odnosov z javnostmi in medijskem svetovanju. Poleg tega je aktivna v različnih družbenih in humanitarnih dejavnostih ter zagovarja visoke etične standarde v komunikaciji. \nNa delavnici “Javni nastop za podjetnike” bo Martina Arčon delila svoje bogato znanje in izkušnje\, ki jih je pridobila skozi leta dela v medijih in odnosih z javnostmi. \n\n \nAktivnost/dogodek je v okviru JR podporno okolje 2023 – 2025 sofinancirana iz sredstev Evropskega sklada za regionalni razvoj\, Ministrstva za gospodarstvo\, turizem in šport ter SPIRIT Slovenija\, javne agencije. \n\n 
URL:https://www.primorski-tp.si/dogodek/61335/
CATEGORIES:delavnice,PTP dogodki
ATTACH;FMTTYPE=image/png:https://www.primorski-tp.si/wp-content/uploads/2025/11/trening-javnega-nastopanja-martina-arcon.png
END:VEVENT
BEGIN:VEVENT
DTSTART;TZID=Europe/Ljubljana:20251118T130000
DTEND;TZID=Europe/Ljubljana:20251118T160000
DTSTAMP:20260421T205808
CREATED:20251103T091125Z
LAST-MODIFIED:20251120T140957Z
UID:61341-1763470800-1763481600@www.primorski-tp.si
SUMMARY:Video za podjetnike: kako s preprosto opremo ustvariti profesionalen vtis
DESCRIPTION:Vabimo vas na šesto delavnico v seriji Digital Skills Masterclass v Primorskem tehnološkem parku.Gre za serijo osmih intenzivnih delavnic\, ki pokrivajo ključna področja sodobnega komuniciranja\, digitalnega marketinga\, javnega nastopanja in grajenja blagovnih znamk.Vsaka delavnica je zasnovana praktično\, z izkušenimi predavatelji\, ki snov prenašajo neposredno v podjetniško realnost.Gre za znanja\, ki jih danes podjetnik nujno potrebuje – ne glede na panogo ali velikost podjetja. \nVideo za podjetnike: kako s preprosto opremo ustvariti profesionalen vtis\nV treh urah boste pridobili praktične veščine za ustvarjanje učinkovitih videov brez velikega proračuna.\nDelavnica je namenjena podjetnikom\, ki sami skrbite za vsebine na družbenih omrežjih in želite nadgraditi svoj video pristop ter izboljšati prepoznavnost svojega podjetja. \nNa delavnici boste:\n\nSpoznali različne vrste videov in kdaj uporabiti posamezno obliko.\nVideli primere\, kako startupi in podjetniki z videom gradijo zaupanje in prodajo.\nNaučili se snemanja sebe – postavitev kamere\, pogled\, govorica telesa\, izraz.\nSpoznali uporabo teleprompterja za naraven in tekoč nastop pred kamero.\nPripravili idejo in scenarij – kako zasnovati zgodbo in vizualno sporočilo.\nPregledali DIY opremo za snemanje: svetloba\, ozadje\, zvok\, kader.\nMontirali video z brezplačnimi orodji\, dodali podnapise\, logotip in CTA.\nPrilagodili format glede na platformo (Reels\, Story\, YouTube\, LinkedIn).\nSpoznali strategije distribucije – kako doseči več ogledov brez plačane kampanje.\nUgotovili\, kako iz enega posnetka ustvariti več različnih vsebin.\n\nDelavnica je namenjena:\npodjetnikom in članom startup ekip\, \npotencialnim podjetnikom\, ki želijo razumeti moč videa v digitalnem marketingu. \nŠtevilo mest je omejeno – pohitite s prijavo!\nUdeležba je za podjetnike BREZPLAČNA! \nO predavateljici\n \nJasmina Putnik ima več kot 15 let izkušenj na področju videa\, fotografije in digitalne kreativnosti. Sodeluje s podjetniki in blagovnimi znamkami pri ustvarjanju vizualnih vsebin\, ki izstopajo in gradijo zaupanje – od portretnih in produktnih posnetkov do videov za družbena omrežja. \nKot mentorica in ustvarjalka pomaga podjetjem\, da z minimalno opremo dosežejo profesionalne rezultate. Njene delavnice mobilnega videa\, snemanja s telefonom\, uporabe teleprompterja in montaže z dostopnimi orodji so zasnovane praktično\, s poudarkom na učinkovitosti in pristnosti. \nS svojimi izkušnjami – več kot 400.000 prodanih vizualov po svetu in sodelovanjem z različnimi podjetji – udeležencem pokaže\, kako lahko s preprostimi orodji ustvarijo video\, ki pritegne\, prepriča in prodaja. \n\n \nAktivnost/dogodek je v okviru JR podporno okolje 2023 – 2025 sofinancirana iz sredstev Evropskega sklada za regionalni razvoj\, Ministrstva za gospodarstvo\, turizem in šport ter SPIRIT Slovenija\, javne agencije. \n\n  \n 
URL:https://www.primorski-tp.si/dogodek/video-za-podjetnike-kako-s-preprosto-opremo-ustvariti-profesionalen-vtis/
CATEGORIES:delavnice,PTP dogodki
ATTACH;FMTTYPE=image/png:https://www.primorski-tp.si/wp-content/uploads/2025/11/delavnica-jasmina-november.png
END:VEVENT
BEGIN:VEVENT
DTSTART;TZID=Europe/Ljubljana:20251119T090000
DTEND;TZID=Europe/Ljubljana:20251119T140000
DTSTAMP:20260421T205808
CREATED:20251029T102443Z
LAST-MODIFIED:20251117T100537Z
UID:61322-1763542800-1763560800@www.primorski-tp.si
SUMMARY:DELAVNICA INOVIRAJMO TURIZEM
DESCRIPTION:Nove storitve za turiste z umetno inteligenco\, metaverse in ustvarjalnostjo – pridružite na sam na delavnici projekta BEST! \n\n19/11/2025 od 9.00 do 13.00\nlokacija Zeleni vstopni center Lijak – Informacije: best@primorski-tp.si  \nDanes imajo tisti\, ki delajo v turizmu – najsi gre za vodiče\, potovalne agencije\, upravitelje kulturnih ustanov\, pa tudi gostince ali natakarje – na voljo številna inovativna orodja: od umetne inteligence do metaverse\, od novih izkustvenih formatov do sodelovalnih metod za razvoj storitev po meri.  \nVendar pa so analize evropskega projekta BEST pokazale\, da jih večina ponudnikov v Italiji in Sloveniji ne uporablja. Pogosto zato\, ker menijo\, da so te tehnologije zapletene\, drage ali „rezervirane za velika podjetja“.  \nBrezplačna delavnica „INOVIRAJMO TURIZEM – Kreativna in inovativna orodja za razvoj storitev za turiste“ je zasnovana prav zato\, da bi razbila ta mit in malim podjetjem na našem območju s praktičnimi primeri in konkretnimi orodji pokazala\, kako je mogoče tudi z minimalnimi vlaganji inovirati svojo ponudbo in obiskovalcem ponuditi nepozabne izkušnje (in tako povečati svoj tok strank!).  \nNe zamudite priložnosti\, da v samo enem dopoldnevu odkrijete vsa orodja\, ki jih lahko takoj uporabite v svojem podjetju!  \nOmejeno število mest\, pišite na: best@primorski-tp.si  \nKDAJ IN KJE \nZeleni vstopni center Lijak\, Šmihel 4\, 5261 Šempas  \n\n 11. 2025\, od 9. do 13. Ure\, sledi pogostitev\n\nKAKO SE PRIJAVITE? \nDogodek je brezplačen\, vendar je število sedežev omejeno. Prijavite se do 12. Novembra 2025 tako\, da obrazec izpolnite na tej POVEZAVI.  \nAli po e-pošti našemu osebju: best@primorski-tp.si  \nZAKAJ SODELOVATI \nKer danes inovacije niso več le možnost\, ampak nujnost.  \nTudi bar ali restavracija sta sestavni del turistične izkušnje: tisti\, ki pridejo v Furlanijo-Julijsko krajino ali Slovenijo\, ne iščejo le jedi\, pijače ali vodenih ogledov\, ampak celovito izkušnjo\, ki jo sestavljajo gostoljubnost\, zgodbe\, pristnost in vrednost.  \nTo vrednost je mogoče ustvariti z inteligentno uporabo tehnologij in omrežij\, ki so že na voljo.  \nProjekt BEST je to dokazal: potencial čezmejnega omrežja med Italijo in Slovenijo je ogromen\, vendar še vedno premalo izkoriščen.  \nMed delavnico bomo odkrili\, kako postati njegov aktivni del\, s pomočjo resničnih primerov in praktičnih orodij za ustvarjanje sodelovanj in inovativnih turističnih storitev\, ki presegajo meje.  \nPROGRAM \n09:00 – Uvod v priložnosti BEST \nBrezplačne storitve projekta za podporo rasti turističnih in kulturnih podjetij na čezmejnem območju.  \n09:10 – Metoda ‘’Innovation Catalyst’’ za razvoj novih turističnih storitev \nZ Jurijem Krpanom odkrijte\, kako ustvariti ideje in jih pretvoriti v konkretne storitve z inovativno metodo\, ki povezuje postopke in orodja umetne inteligence z ustvarjalnim pristopom.  \n09:40 – Od umetne inteligence do metaverse: digitalna orodja za vse \nPotovanje med tehnologijami in primeri uporabe\, ki so dostopni tudi malim podjetjem.  \n10:30 – Umetnost in ustvarjalnost v turizmu \nPrimeri in navdihi\, v katerih sta umetnost in ustvarjalnost omogočili novo življenje ponudbi.  \n11:10 – Primer lokalne odličnosti \nKonkretni primer uspešne turistične inovativnosti na območju.  \n11:40 – Praktična delavnica \nPod vodstvom moderatorjev v praksi uporabimo\, kar smo se naučili.  \n12:40 – Zaključki in naslednji koraki \n13:00 – Pogostitev in mreženje \nZAKAJ JE DELAVNICA BREZPLAČNA? \n Dogodek je brezplačen\, ker je organiziran in financiran v okviru evropskega projekta BEST – Pot do boljšega\, trajnostno naravnanega in povezanega območja\, ki ga sofinancira program Interreg VI-A Italija–Slovenija 2021-2027. 
URL:https://www.primorski-tp.si/dogodek/delavnica-inovirajmo-turizem/
CATEGORIES:delavnice,PTP dogodki
ATTACH;FMTTYPE=image/png:https://www.primorski-tp.si/wp-content/uploads/2025/10/2.png
END:VEVENT
END:VCALENDAR