BEGIN:VCALENDAR
VERSION:2.0
PRODID:-//Primorski tehnološki park - ECPv6.10.2//NONSGML v1.0//EN
CALSCALE:GREGORIAN
METHOD:PUBLISH
X-ORIGINAL-URL:https://www.primorski-tp.si
X-WR-CALDESC:Dogodki za Primorski tehnološki park
REFRESH-INTERVAL;VALUE=DURATION:PT1H
X-Robots-Tag:noindex
X-PUBLISHED-TTL:PT1H
BEGIN:VTIMEZONE
TZID:Europe/Ljubljana
BEGIN:DAYLIGHT
TZOFFSETFROM:+0100
TZOFFSETTO:+0200
TZNAME:CEST
DTSTART:20250330T010000
END:DAYLIGHT
BEGIN:STANDARD
TZOFFSETFROM:+0200
TZOFFSETTO:+0100
TZNAME:CET
DTSTART:20251026T010000
END:STANDARD
END:VTIMEZONE
BEGIN:VEVENT
DTSTART;VALUE=DATE:20250911
DTEND;VALUE=DATE:20250930
DTSTAMP:20260421T234824
CREATED:20250505T135024Z
LAST-MODIFIED:20251104T130742Z
UID:60591-1757548800-1759190399@www.primorski-tp.si
SUMMARY:Scaleup akademija 2025
DESCRIPTION:Iz startupa v urejeno\, rastoče podjetje.\nNa poti iz startupa v urejeno podjetje je potrebno narediti ključne spremembe v načinu delovanja. Kreativnost sama po sebi ni več dovolj\, potrebni so sistemi\, procesi in znanje za stabilno rast in dobičkonosnost. \nProgram je sestavljen iz dveh sklopov\, šest delavnic in individualnega svetovanja s predavatelji: \nSklop 1: Delavnice bodo potekale tako\, da bodo udeleženci imeli možnost predhodno posredovati specifična lastna vprašanja\, na podlagi katerih bodo predavatelji oblikovali vsebino delavnic. Delavnice bodo za udeležence brezplačne. \nSklop 2: Vsak udeleženec bo lahko zakupil 5 svetovalnih ur po ugodni ceni\, ki jih bo razporedil med predavatelji in prejel individualno svetovanje. \nZA KOGA?\nZa ambiciozna podjetja\, ki že ustvarjajo redne prihodke s prodajajo na trgu in želijo narediti naslednji korak v rasti. Program je namenjen tistim\, ki: \n\nželijo imeti finance pod kontrolo\,\niščejo možnosti financiranja rasti\,\nželijo urediti pravne in zakonske obveznosti\,\npotrebujejo boljšo organizacijo procesov.\n\nNa programu je 12 prostih mest. \nKDAJ?\n\nPrijave so odprte do 5. 9. 2025 do 12.00.\nProgram obsega 6 specializiranih delavnic\, ki bodo potekale v septembru 2025\, med 14.00 in 17.30 in skupno 5 individualnih ur s predavatelji.\n\n(Podroben program se nahaja spodaj.) \nKAKO SE PRIJAVIM?\nIzpolni obrazec na povezavi najkasneje do 5. 9. 2025. Z namenom zagotavljanja kakovostnega dela z udeleženci je število mest v programu omejeno na 12 najbolj ambicioznih podjetji\, ki se bodo programa udeležili brezplačno.\n👉 Prijavi se tukaj \nZa vse dodatne informacije lahko kontaktirate vodjo programa: Mitja Mikuž\, 041 241 663 ali mitja.mikuz@primorski-to.si \nVSEBINA AKADEMIJE\nSklop 1: Program delavnic \n📅 Četrtek\, 11. 9. 2025 🕘 med 14.00 in 17.30\nDelavnica 1: Kako vzpostaviti učinkovit odnos z računovodstvom – Mitja in Meta Premrl\, Taxa\nKako urediti sodelovanje z računovodstvom\, da podjetje deluje kot dobro naoljen stroj? Kaj so ključne odgovornosti računovodje in podjetnika? \n📅 Ponedeljek\, 15. 9. 2025 🕘 med 14.00 in 17.30\nDelavnica 2: Davki in dajatve\, ki jih mora poznati vsak podjetnik – Mitja in Meta Premrl\, Taxa\nPregled davčnih obveznosti\, specifik slovenskega sistema dajatev in vplivov na poslovanje. \n📅 Četrtek\, 18. 9. 2025 🕘 med 14.00 in 17.30\nDelavnica 3: Spremljanje denarnih tokov – Luka Praper\, Equito\nKako spremljati prilive\, odlive in obvladovati finančno načrtovanje za zdravo poslovanje in rast? \n📅 Ponedeljek\, 22. 9. 2025 🕘 med 14.00 in 17.30\nDelavnica 4: Viri financiranja rasti in razvoja – Luka Praper\, Equito 🕘 med 14.00 in 17.30\nInvestitorji\, strateški partnerji\, razpisi\, posojila\, skladni – kaj izbrati in kaj pričakovati? \n📅 Četrtek\, 25. 9. 2025 🕘 med 14.00 in 17.30\nDelavnica 5: Zakonski pravilniki v podjetju – Gregor Mihelj in Primož Barbič\, Odvetniška hiša Mihelj\, Barbič in partnerji\nKatere pravilnike mora imeti podjetje? Kako zagotoviti skladnost s predpisi in urediti notranje akte? \n📅 Ponedeljek\, 30. 9. 2025\nDelavnica 6: Procesi in avtomatizacija – Rok Stritar\, Kibuba 🕘 med 14.00 in 17.30\nKako preiti iz kreativnega nereda v urejeno\, učinkovito podjetje s pomočjo procesov in avtomatizacije?\nZaključek Scaleup akademije 2025 🕘 med 17.30 in 21.00\nPogovor o izzivih in korakih udeležencev za hitro rast podjetja in doseganje dobičkonosnosti. \n»Aktivnost se izvaja v okviru JR Start-up konzorcij in jo sofinancirata Republika Slovenija in Evropska unija\, in sicer iz Evropskega sklada za regionalni razvoj« v okviru Programa evropske kohezijske politike v obdobju od 2021 do 2027. \nProgram ima za udeležena podjetja naravo de minimis pomoči na osnovi sheme: Program ukrepov MGTŠ za spodbujanje podjetništva in konkurenčnosti v obdobju 2024–2030 – de minimis (št. sheme: M001-2632616-2024). Višina de minimis pomoči je  460\,00 € na udeleženo podjetje. \n \nSklop 2: Program individualnih ekspertnih ur \n📅 Datum: 2. 10 .2025 in 6.10.2025🕘 Čas: med 9.00 in 16.00Točen termin bo določen naknadno za vsakega udeleženca posebej. \nV okviru programa boste imeli priložnost za individualne svetovalne ure z izkušenimi strokovnjaki s ključnih področij podjetništva: \n\nMitja in Meta Premrl (Taxa): Računovodstvo in dajatve\nLuka Praper (Equito): Finančno svetovanje\nRok Stritar (Oksip\, Kibuba): Organizacija poslovnih procesov\nGregor Mihelj in Primož Barbič (Odvetniška hiša): Pravna ureditev podjetja\n\n💶 Cena paketa 5 individualnih ur: 610\,00 EUR (z DDV) \n📌 Vsak podjetnik bo individualne ure izkoristil z izbranimi strokovnjaki glede na lastne potrebe in cilje. \nKAJ DOBIŠ?\n1 sklop: \n6 brezplačnih interaktivnih delavnic z izkušenimi strokovnjaki\, ki so financirana iz razpisa JR Startup konzorcij 2024-2025. \nDelo v manjši skupini 12 podjetnikov\, kar omogoča individualni pristop. \n2 sklop: \n5 indivualnih ekspertnih ur\, ki jih udeleženci izkoristijo za delo s predavatelji za lastne izzive in so financirane iz cene 2. sklopa programa. \nUdeleženci progama bodo imeli možnost vključitve v program Primorskega tehnološkega parka: mentorstvo\, dostop do skupnosti podjetnikov\, delavnice specifičnih znanj. \n👉 Prijavi se tukaj\nZa vse dodatne informacije lahko kontaktirate vodjo programa: Mitja Mikuž\, 041 241 663 ali mitja.mikuz@primorski-to.si \nPREDAVATELJI:\nRačunovodstvo in dajatve: \nRačunovodska hiša Taksa\, s sedežem v Ajdovščini\, je družinsko podjetje\, ki nudi storitve na področju računovodstva\, davčnega svetovanja in poslovnega svetovanja. Podjetje vodi direktorica Meta Premrl\, ki nadaljuje delo svojih staršev\, ustanovitelj podjetja pa je Mitja Premrl\, ki je priznani davčni svetovalec. Več na taxa.si \n  Meta in Mitja Premrl\, CEO in ustanovitelj TAXA\, davčne in računovodske storitve \nPravna ureditev podjetja: \n​Odvetniška družba Mihelj\, Barbič in partnerji\, ustanovljena leta 2012 s sedežem v Novi Gorici\, se ukvarja s pravnim svetovanjem in zastopanjem strank v različnih pravnih zadevah. Gregor Mihelj in Primož Barbič\, ustanovna partnerja družbe\, imata dolgoletne izkušnje na področju gospodarskega prava. Njuna praksa vključuje svetovanje in pripravo gospodarskih pogodb ter zastopanje strank v sodnih in izvensodnih postopkih\, kot so skupščine\, arbitraže in mediacije. Več na mbo.si \n  Gregor Mihelj in Primož Barbič\, partnerja odvetniške hiše MBO \nFinančno svetovanje: \nLuka Praper je soustanovitelj in finančni direktor podjetja Equito\, ki se ukvarja s finančnim svetovanjem in investicijskimi storitvami. Podjetje Equito nudi storitve\, kot so priprava investicijskih dokumentov\, svetovanje pri pridobivanju financiranja ter podpora pri finančnem načrtovanju in analizah. Več na equito.si \n Luka Praper\, CFA Equitio \n\nOrganizacija poslovnih procesov: \nRok Stritar je podjetnik in svetovalec z izkušnjami na področju organizacije poslovnih procesov ter razvoja podjetij. Njegovo delo vključuje svetovanje podjetjem pri optimizaciji procesov\, strateškem načrtovanju in razvoju poslovnih modelov. Je tudi eden najbolj priznanih startup mentorjev v Sloveniji. \n Rok Stritar\, ustanovitelj Oksip \n👉 Prijavi se tukaj\nZa vse dodatne informacije lahko kontaktirate vodjo programa: Mitja Mikuž\, 041 241 663 ali mitja.mikuz@primorski-to.si \nMNENJA UDELEŽENCEV:\n Žan Kusterle\, ustanovitelj in CEO Ergohide d.o.o.\, finalist startup leta 2025 \n“Delavnice v akademiji so bile konkretne\, uporabne in zelo prilagojene našim izzivom.” \n Tara Brus\, soustanoviteljica NOVUS Racing Simulators \n”Udeležila sem se več programov ter bila vključena v druge inkubatorje. Lahko potrdim\, da sem od akademije odnesla največ.” \nZa vse dodatne informacije lahko kontaktirate vodjo programa: Mitja Mikuž\, 041 241 663 ali mitja.mikuz@primorski-to.si
URL:https://www.primorski-tp.si/dogodek/scaleup-akademija-2025/
LOCATION:Primorski tehnološki park\, Mednarodni prehod 6\, Šempeter pri Gorici\, 5290
CATEGORIES:delavnice,PTP dogodki
ATTACH;FMTTYPE=image/png:https://www.primorski-tp.si/wp-content/uploads/2025/04/baner-scalup-akademija-2025-1.png
ORGANIZER;CN="Primorski tehnolo%C5%A1ki park":MAILTO:info@primorski-tp.si
END:VEVENT
END:VCALENDAR