BEGIN:VCALENDAR
VERSION:2.0
PRODID:-//Primorski tehnološki park - ECPv6.10.2//NONSGML v1.0//EN
CALSCALE:GREGORIAN
METHOD:PUBLISH
X-ORIGINAL-URL:https://www.primorski-tp.si
X-WR-CALDESC:Dogodki za Primorski tehnološki park
REFRESH-INTERVAL;VALUE=DURATION:PT1H
X-Robots-Tag:noindex
X-PUBLISHED-TTL:PT1H
BEGIN:VTIMEZONE
TZID:Europe/Ljubljana
BEGIN:DAYLIGHT
TZOFFSETFROM:+0100
TZOFFSETTO:+0200
TZNAME:CEST
DTSTART:20250330T010000
END:DAYLIGHT
BEGIN:STANDARD
TZOFFSETFROM:+0200
TZOFFSETTO:+0100
TZNAME:CET
DTSTART:20251026T010000
END:STANDARD
END:VTIMEZONE
BEGIN:VEVENT
DTSTART;TZID=Europe/Ljubljana:20251009T150000
DTEND;TZID=Europe/Ljubljana:20251009T160000
DTSTAMP:20260421T234823
CREATED:20251003T131123Z
LAST-MODIFIED:20251007T131142Z
UID:61227-1760022000-1760025600@www.primorski-tp.si
SUMMARY:Javni poziv za podporo mladim podjetnikom in podjetnicam začetnicam
DESCRIPTION:Dogodek informiranja: Javni poziv za podporo mladim podjetnikom in podjetnicam začetnicam\nObjavljen je razpis\, namenjen spodbujanju nastanka in razvoja podjetij\, ki so jih ustanovili mladi (do vključno 29 let). Cilj razpisa je omogočiti lažji dostop do financiranja in povečati stopnjo preživetja novih podjetij. \nKaj prinaša razpis?\nSofinanciranje v višini 9.000 EUR (v dveh delih po 4.500 EUR) za kritje stroškov dela \nProjekt v dveh fazah (5 + 5 mesecev)Upravičena podjetja: ustanovljena manj kot 3 leta pred oddajo vlogeTrije roki za oddajo vlog: \n\n\n\n\n– 31. oktober 2025 \n\n\n\n\n\n\n– 30. november 2025 \n\n\n\n\n\n\n– 31. december 2025 \n\n\n\n\n Odlična priložnost za mikro\, mala in srednja podjetja v začetnih fazah poslovanja! \n\nSrečanje v PTP\nZa podjetja v PTP pripravljamo srečanje\, kjer bomo razložili podrobnosti razpisa in odgovorili na vaša vprašanja. \nKdaj: 9. oktober 2025\, 15.00 Kje: Predavalnica 1\, PTP \n \nAktivnost/dogodek je v okviru JR podporno okolje 2023 – 2025 sofinancirana iz sredstev Evropskega sklada za regionalni razvoj\, Ministrstva za gospodarstvo\, turizem in šport ter SPIRIT Slovenija\, javne agencije.
URL:https://www.primorski-tp.si/dogodek/delavnica-kako-do-sredstev-za-mlada-podjetja/
CATEGORIES:delavnice,PTP dogodki
ATTACH;FMTTYPE=image/jpeg:https://www.primorski-tp.si/wp-content/uploads/2025/10/dogodek-informiranja-oktobe-1.jpg
END:VEVENT
END:VCALENDAR