BEGIN:VCALENDAR
VERSION:2.0
PRODID:-//Primorski tehnološki park - ECPv6.10.2//NONSGML v1.0//EN
CALSCALE:GREGORIAN
METHOD:PUBLISH
X-ORIGINAL-URL:https://www.primorski-tp.si
X-WR-CALDESC:Dogodki za Primorski tehnološki park
REFRESH-INTERVAL;VALUE=DURATION:PT1H
X-Robots-Tag:noindex
X-PUBLISHED-TTL:PT1H
BEGIN:VTIMEZONE
TZID:Europe/Ljubljana
BEGIN:DAYLIGHT
TZOFFSETFROM:+0100
TZOFFSETTO:+0200
TZNAME:CEST
DTSTART:20250330T010000
END:DAYLIGHT
BEGIN:STANDARD
TZOFFSETFROM:+0200
TZOFFSETTO:+0100
TZNAME:CET
DTSTART:20251026T010000
END:STANDARD
END:VTIMEZONE
BEGIN:VEVENT
DTSTART;TZID=Europe/Ljubljana:20251104T090000
DTEND;TZID=Europe/Ljubljana:20251104T120000
DTSTAMP:20260421T222853
CREATED:20251024T095246Z
LAST-MODIFIED:20251215T105802Z
UID:61477-1762246800-1762257600@www.primorski-tp.si
SUMMARY:Marketing za startupe
DESCRIPTION:Kako doseči velike rezultate z majhnim proračunom\nPraktična  delavnica za podjetnike začetnike in vse\, ki razmišljate o svoji podjetniški poti. \nImate poslovno idejo\, produkt ali storitev\, pa ne veste\, kako jo predstaviti trgu – brez dragih oglasov in marketinških agencij?Na tej delavnici boste spoznali\, kako se lotiti marketinga pametno\, vitko in učinkovito\, tudi če imate na voljo zelo omejen proračun. \n\nKomu je delavnica namenjena?\n\n\npodjetnikom začetnikom \n\n\npotencialnim podjetnikom z idejo \n\n\nstartup ekipam v zgodnji fazi \n\n\nštudentom\, raziskovalcem in vsem\, ki želite preveriti svojo idejo na trgu \n\n\nPredznanje ni potrebno – delavnica je praktična in prilagojena začetnikom. \n\nKaj boste na delavnici izvedeli?\nNa delavnici boste dobili konkretna znanja in orodja\, ki jih lahko uporabite takoj po dogodku: \n\n\nkatere marketinške aktivnosti so brezplačne (ali skoraj brezplačne)\, \n\n\nkako graditi prepoznavnost brez plačljivega oglaševanja\, \n\n\nkako učinkovito uporabljati družbena omrežja\, e-poštni marketing in SEO\, \n\n\nkako izbrati prave 2–3 kanale\, namesto da ste povsod\, \n\n\nkako pripraviti enostaven in izvedljiv marketinški načrt za prvih 30 dni\, \n\n\nzakaj je pogovor s strankami najpomembnejše marketinško orodje. \n\n\nDelavnica temelji na pristopu vitkega (lean) marketinga – majhni koraki\, hitri testi in učenje iz prakse. \n\nProgram delavnice (9.00–12.00)\n1. Osnove startup marketinga \n\n\nzakaj je marketing za startupe drugačen\, \n\n\nrazlika med korporativnim in startup marketingom\, \n\n\nkaj je vitki (lean) marketing in zakaj deluje. \n\n\n2. Marketinški kanali in orodja z majhnim proračunom \n\n\nosebni stik\, mreženje\, dogodki in pitching\, \n\n\ndigitalni kanali: spletna stran\, družbena omrežja\, e-mail marketing\, \n\n\nbrezplačna in dostopna orodja (Canva\, AI orodja\, Mailchimp …)\, \n\n\nkako izbrati prave kanale glede na ciljno skupino. \n\n\n3. Praktične vaje \n\n\nopredelitev ciljne stranke (persona)\, \n\n\noblikovanje jasne vrednostne ponudbe\, \n\n\nmini marketinški načrt:– 2 kanala– 3 aktivnosti– osnovni kazalniki uspešnosti \n\n\n\nPredavateljica\nMarjana Šimčič HumarVodja marketinga in podjetniška mentorica v Primorskem tehnološkem parku \nMarjana ima dolgoletne izkušnje na področju marketinga\, komuniciranja in podpore startup ekosistemu v Sloveniji. Kot vodja marketinga v Primorskem tehnološkem parku je sodelovala pri številnih podjetniških programih in iniciativah\, kot je GoStartup Akademija\, ter pomagala mladim podjetnikom pri vstopu na domače in tuje trge. \nNjeno delo temelji na kombinaciji: \n\n\ndigitalnega marketinga\, \n\n\nodnosov z javnostmi\, \n\n\nosebnega brandinga\, \n\n\nskupnostnega in mreženjskega pristopa. \n\n\nNjen slog poučevanja je praktičen\, neposreden in usmerjen v orodja\, ki jih startupi lahko uporabljajo takoj – brez velikih proračunov. \n\nKdaj in kje?\nDatum: 4. november 2025Ura: 9.00–12.00Lokacija: Primorski tehnološki parkSAMO V ŽIVO \n\nZakaj se udeležiti delavnice?\n\n\nker marketing ni samo za velika podjetja\, \n\n\nker ne potrebujete popolnosti\, ampak prve korake\, \n\n\nker boste odšli z jasnim načrtom in konkretno usmeritvijo\, \n\n\nker boste spoznali\, kako z malo sredstvi doseči prave ljudi. \n\n\n\nPrijavite se zdaj\nŠtevilo mest je omejeno.Pridružite se in se naučite\, kako svojo podjetniško idejo uspešno predstaviti trgu – pametno in brez nepotrebnih stroškov. \nAktivnost/dogodek je v okviru JR podporno okolje 2023 – 2025 sofinancirana iz sredstev Evropskega sklada za regionalni razvoj\, Ministrstva za gospodarstvo\, turizem in šport ter SPIRIT Slovenija\, javne agencije.
URL:https://www.primorski-tp.si/dogodek/marketing-za-startupe/
CATEGORIES:delavnice,PTP dogodki
ATTACH;FMTTYPE=image/jpeg:https://www.primorski-tp.si/wp-content/uploads/2025/12/marketing-za-startupe.jpg
END:VEVENT
END:VCALENDAR