BEGIN:VCALENDAR
VERSION:2.0
PRODID:-//Primorski tehnološki park - ECPv6.10.2//NONSGML v1.0//EN
CALSCALE:GREGORIAN
METHOD:PUBLISH
X-WR-CALNAME:Primorski tehnološki park
X-ORIGINAL-URL:https://www.primorski-tp.si
X-WR-CALDESC:Dogodki za Primorski tehnološki park
REFRESH-INTERVAL;VALUE=DURATION:PT1H
X-Robots-Tag:noindex
X-PUBLISHED-TTL:PT1H
BEGIN:VTIMEZONE
TZID:Europe/Ljubljana
BEGIN:DAYLIGHT
TZOFFSETFROM:+0100
TZOFFSETTO:+0200
TZNAME:CEST
DTSTART:20250330T010000
END:DAYLIGHT
BEGIN:STANDARD
TZOFFSETFROM:+0200
TZOFFSETTO:+0100
TZNAME:CET
DTSTART:20251026T010000
END:STANDARD
END:VTIMEZONE
BEGIN:VEVENT
DTSTART;VALUE=DATE:20250818
DTEND;VALUE=DATE:20250829
DTSTAMP:20260422T015357
CREATED:20250806T085757Z
LAST-MODIFIED:20250806T092651Z
UID:61046-1755475200-1756425599@www.primorski-tp.si
SUMMARY:Poletna šola umetne inteligence za mlade
DESCRIPTION:Kako preživeti del počitnic\, da bo hkrati koristno\, zabavno in “wow”? \nPridruži se brezplačni poletni šoli umetne inteligence\, kjer boš raziskoval prihodnost tehnologije\, ustvarjal s pametnimi orodji in sodeloval v resničnem izzivu. Pridobi digitalne veščine\, spoznaj nove ljudi in se zabavaj – vse to v samo štirih dneh! \nKdaj in kje?\n1. termin: 18. – 21. avgust 2025\, od 8.30 do 13.30\n2. termin: 25. – 28. avgust 2025\, od 8.30 do 13.30\nLokacija: Nova Gorica\, prostori Xcentra \nZa koga?\nza mlade med 14. in 29. letom starosti. \nKaj se boste naučili?\nUdeleženci bodo raziskovali svet umetne inteligence in se naučili natančne komunikacije z AI prek t. i. »promptov«. Cilj je postati mojster v uporabi naprednih AI orodij\, kot so ChatGPT\, Gemini in Poe. Naučili se boste: \n\nspretno uporabljali orodja: ChatGPT\, Gemini\, Claude\, Midjourney\, Canva\, Replit\, Teachable Machine\, Runway\, Veo3\,\nustvarjati zgodbe\, kvize\, videe in slike\,\nprepoznavati napačne AI odgovore in skrbeti za digitalno varnost.In še nekaj več kot le tehnologija…\n\nPoleg digitalnih veščin ponuja poletna šola tudi: \n\nnova poznanstva in ustvarjalno druženje\,\nraziskovanje v sproščenem in sodelovalnem okolju\,\nizmenjavo idej in timsko delo\,\nzaključni AI Hackathon – skupinski izziv s predstavitvijo rešitev.\n\nPrijavi se!\nProgram po dnevih\nDAN 1: Maestro umetne inteligence (AI)\nKaj poganja AI? Kako ji dati jasna navodila? Spoznajte orodja\, teste in logiko za uspešno vodenje umetne inteligence.\nOrodja: ChatGPT\, Poe\, Claude\, Gemini\nMetode: primerjalna analiza\, eksperimentiranje\, delavnice \nDAN 2: Varni navigator digitalnega sveta\nAI in zaupanje: kako ostati varen/-na? Naučite se prepoznati lažne vsebine in oblikovati lasten kodeks digitalne etike.\nTema dneva: etika\, zasebnost\, bonton\nOrodja: Whimsical\, ChatGPT\, kodeks AI \nDAN 3: Kreativni čarovnik\nAI kot ustvarjalno orodje: pisanje pesmi\, ustvarjanje kvizov\, videov\, infografik – in celo preprostih programov.\nUstvarjanje: zgodbe\, vizualne vsebine\nOrodja: Canva\, Replit\, Runway\, Notion AI\, Veo3 \nDAN 4: Inženir domišljije – AI Hackathon / Ideathon\nSkupinski izziv! Razvij prototip rešitve na temo prihodnosti (okolje\, zdravje\, skupnost) in jo predstavi.\nCilj: razviti idejo z AI in jo predstaviti\nOrodja: Midjourney\, ChatGPT\, Canva\, Teachable Machine\, Gamma \nZakaj se udeležiti?\n\nSpoznaj\, kako deluje umetna inteligenca\nNauči se jo uporabljati za ustvarjanje in reševanje izzivov\nPridobi dragocene veščine in uradno potrdilo\nSodeluj v Hackathonu in dokaži svoje znanje\nPo želji se pripravi na prijavo na tekmovanje POPRI\n\n \nPrijave so odprte do 8. avgusta 2025 oz. do zapolnitve mest.\nKo bo skupina polna\, se možnost prijave zapre.\nVeč informacij: mojca.beltram@primorski-tp.si | 040 658 606 \nPrijavi se!
URL:https://www.primorski-tp.si/dogodek/poletna-sola-umetne-inteligence-za-mlade/
CATEGORIES:PTP dogodki
ATTACH;FMTTYPE=image/png:https://www.primorski-tp.si/wp-content/uploads/2025/08/Poletna_sola_PTP.png
END:VEVENT
END:VCALENDAR