BEGIN:VCALENDAR
VERSION:2.0
PRODID:-//Primorski tehnološki park - ECPv6.10.2//NONSGML v1.0//EN
CALSCALE:GREGORIAN
METHOD:PUBLISH
X-WR-CALNAME:Primorski tehnološki park
X-ORIGINAL-URL:https://www.primorski-tp.si
X-WR-CALDESC:Dogodki za Primorski tehnološki park
REFRESH-INTERVAL;VALUE=DURATION:PT1H
X-Robots-Tag:noindex
X-PUBLISHED-TTL:PT1H
BEGIN:VTIMEZONE
TZID:Africa/Abidjan
BEGIN:STANDARD
TZOFFSETFROM:+0000
TZOFFSETTO:+0000
TZNAME:GMT
DTSTART:20150101T000000
END:STANDARD
END:VTIMEZONE
BEGIN:VEVENT
DTSTART;TZID=Africa/Abidjan:20160118T000000
DTEND;TZID=Africa/Abidjan:20160118T000000
DTSTAMP:20260425T180242
CREATED:20160118T153859Z
LAST-MODIFIED:20200428T144714Z
UID:50721-1453075200-1453075200@www.primorski-tp.si
SUMMARY:INFO DAY ''Podjetna Primorska 2016''
DESCRIPTION:INFO DAY ”Podjetna Primorska 2016” \nUniverzitetni razvojni center in inkubator Primorske vabi na INFO DAY »PODJETNA PRIMORSKA 2016«\, ki bo potekal v sreda\, 20. januar 2016 ob 17.00 v predavalnici UIP\, Ferrarska 8 (Ogrlica)\, Koper \nV Univerzitetnem razvojnem centru in inkubatorju Primorske smo ponovno zagnali\, letos že 10. sezono natečaja za najboljšo podjetniško idejo primorske regije »PODJETNA PRIMORSKA 2016«\, kjer vam nudimo vso podporo pri uresničitvi vaše ideje.\nZa vse\, ki imate inovativno podjetniško idejo in jo želite uresničiti\, smo pripravili informativni dan\, kjer boste izvedeli\, kaj vam prinaša natečaj Podjetna Primorska\, kako se prijaviti\, da se bo vaša poslovna ideja uvrstila med finaliste natečaja\, kakšne so ugodnosti in nagrade ter še mnogo drugega.\n\n\nZaradi omejenega števila mest vam priporočamo\, da se čim prej prijavite in si tako zagotovite svoje  mesto na info(at)uip.si ali na telefonski številki 05 611 79 52.\n\nPrijavni obrazec za natečaj Podjetna Primorska 2016 in pravilnik sta objavljena na www.uip.si.\n\n\n\n\nUra\nVsebina\nIzvajalec\n\n\n17.00 – 17.15 \n  \n  \n17.15-17.30 \n  \n  \n  \n  \n17.30-18.15 \n \n§  Kratka predstavitev inkubatorja UIP in podpornega okolja za podjetništvo \n  \n§  Uspešni mladi podjetniki – finalisti PP15 \n–          Tjaša Vidic (Loally) \n–          Andrej Erzetič (Bood) \n–          Tina Zajić (Toring Turbine) \n  \n§  Predstavitev natečaja za najboljšo podjetniško idejo »PODJETNA PRIMORSKA«: \n–          Kaj mi prinaša sodelovanje na natečaju \n–          Kako se prijavim \n–          Katera kategorija je primerna zame \n–          Kakšne ugodnosti lahko izkoristim \n–          Nagradni sklad\nDorijan Maršič \n  \n  \n  \n  \n  \n  \n  \nDorijan Maršič in Andrej Medved\n\n\n18.15 – 19.00 \n \nIndividualno svetovanje oz. odgovori  na vprašanja udeležencev\nSvetovalci UIP
URL:https://www.primorski-tp.si/dogodek/info-day-podjetna-primorska-2016-2/
CATEGORIES:PTP dogodki
END:VEVENT
BEGIN:VEVENT
DTSTART;TZID=Africa/Abidjan:20151217T080000
DTEND;TZID=Africa/Abidjan:20151217T170000
DTSTAMP:20260425T180242
CREATED:20151217T154917Z
LAST-MODIFIED:20200428T145545Z
UID:50988-1450339200-1450371600@www.primorski-tp.si
SUMMARY:25. Business Meetupas Nova Gorica
DESCRIPTION:Na zadnjem Business meetupu letos bo z nami Majda Dodevska\, CMO in co-founder startup podjetja Scoutee. Scoutee proizvaja najboljše merilnike za hitrost bejzbolskih žogic. Kljub temu\, da je proizvod zelo nišni\, v bejzbolski šport prinaša veliko dodane vrednosti. \nScoutee ima za sabo že veliko uspehov\, kot so uspešno izvedena kompanija na Kikstarterju in investicija iz strani pospeševalnika ELEVEN. \nKer je meetup zadnji letos in smo v prijetnem prazničnem obdobju bomo tudi letos poskrbeli za sladko vzdušje.
URL:https://www.primorski-tp.si/dogodek/25-business-meetupas-nova-gorica/
CATEGORIES:PTP dogodki
END:VEVENT
BEGIN:VEVENT
DTSTART;TZID=Africa/Abidjan:20151126T080000
DTEND;TZID=Africa/Abidjan:20151126T170000
DTSTAMP:20260425T180242
CREATED:20151126T160312Z
LAST-MODIFIED:20200428T150450Z
UID:51009-1448524800-1448557200@www.primorski-tp.si
SUMMARY:24. Business meetups Nova Gorica
DESCRIPTION:Gregor Rebolj bo v četrtek\, 26. novembra ob 19h gost na 24. Business meetups Nova Gorica. Gregor je soustanovitelj semenskega sklada Silicijevi vrtički\, je generalni direktor pri Sportradar AS in Klika d.o.o. \nKot je znano večini od nas\, ki smo vpeti v startup okolje\, so Silicijevi vrtički bolj ali manj Slovenski sklad semenskega kapitala. Ostali dve podjetji\, kjer Gregor deluje pa se ukvarjata z zbiranjem\, obdelovanjem in posredovanjem podatkov\, ki se dogajajo med velikimi športnimi dogodki. Več nam bo povedal gost na Business meetups-u.
URL:https://www.primorski-tp.si/dogodek/24-business-meetups-nova-gorica/
CATEGORIES:PTP dogodki
END:VEVENT
BEGIN:VEVENT
DTSTART;TZID=Africa/Abidjan:20151029T080000
DTEND;TZID=Africa/Abidjan:20151029T170000
DTSTAMP:20260425T180242
CREATED:20151029T160505Z
LAST-MODIFIED:20200428T150624Z
UID:51012-1446105600-1446138000@www.primorski-tp.si
SUMMARY:23. Business Meetups Nova Gorica
DESCRIPTION:Vendarle nam je tudi tokrat uspelo. Vabilu se je odzval goričan Marko Filej\, ki je s svojim startupom Trainers4me prepričal celo Richarda Bransona in Ano Ivanović. \nVabimo vas\, da prisluhnete njegovi zgodbi na 23. Business Meetups Nova Gorica\, ki bo potekal v četrtek\, 29.10.2015 ob 19. uri v lokalu Cafe Gallus. \nMarko nam bo zaupal\, kako je od osnutka spletne strani prišel do pol-milijonske investicije. Vstopnine ni. Moderator večera je start-up mentor Primorskega tehnološkega parka\, Rok Gulič. \nTrainers4me.com je globalna platforma v katero je od konec februarja 2015 vključenih 1.600 trenerjev iz 41 držav in prek tri tisoč registriranih uporabnikov. Solastnica startupa je tudi trenutno 16. teniška igralka sveta\, Ana Ivanović. V njihov startup je vložil ruski vlagatelj\, ki živi v južni Franciji\, ekipa je pridobila tudi sredstva SK75 Slovenskega podjetniškega sklada in s tem tudi lastnega podjetniškega mentorja. Preko predstavnikov iščejo stranke vse od Avstralije do Londona. \nVeč o Trainers4me.com si lahko ogledate na spletni strani: https://trainers4me.com/ \nBusiness Meetups Nova Gorica so redna neformalna poslovna srečanja\, ki jih organizira Primorski tehnološki park v novogoriškem lokalu Cafe Gallus z namenom izmenjave dobrih podjetniških zgodb\, znanja\, izkušenj\, navezovanja novih poslovnih vezi ter novih poslovnih priložnosti. Business Meetups gostuje uspešne podjetnike in podjetnice\, s katerimi predstavlja najsodobnejše teme iz start-up podjetništva. \nVabljeni\, po pogovoru z gostom sledi pivo ali dve.
URL:https://www.primorski-tp.si/dogodek/23-business-meetups-nova-gorica/
CATEGORIES:PTP dogodki
END:VEVENT
BEGIN:VEVENT
DTSTART;TZID=Africa/Abidjan:20151011T080000
DTEND;TZID=Africa/Abidjan:20151011T170000
DTSTAMP:20260425T180242
CREATED:20151011T150703Z
LAST-MODIFIED:20200428T151010Z
UID:51014-1444550400-1444582800@www.primorski-tp.si
SUMMARY:Startup Pitch - zaključek 4. Startup vikenda Nova Gorica
DESCRIPTION:Primorski tehnološki park vas vabi\, da se nam pridružite na prireditev ‘Startup PITCH’ \n‘Startup PITCH’ je zaključek Startup vikenda. \nVas zanima kaj je udeležencem uspelo realizirati v enem vikendu?\nV nedeljo\, 11. oktobra 2015\, ob 17. uri pridite v Primorski tehnološki park. \nNa Startup vikendu bodo ekipe v samo enem vikendu\, od petka do nedelje\, skušale svoje ideje razviti v učinkovit poslovni model. Pri tem jim bodo skozi mentoriranje pomagali startup podjetniki iz našega lokalnega okolja. \nEkipe bodo svoje izdelke predstavili pred podjetniško-investitorsko komisijo v obliki ‘pitcha’. Komisijo bodo sestavljali Maja Požar Andrejašič iz REC\, raziskave in razvoj\, d.o.o.\, Tomaž Jug iz Editor d.o.o.\, Matej Peršolja iz Protectus d.o.o.\, Elvis Janežič iz Instrumentation Technologies d.o.o. in Goran Miškulin iz Spintec d.o.o Najboljšo ekipo bomo nagradili\, nato pa bo tudi čas za druženje ob prigrizku. \nKaj je PITCH? \n‘Pitch’ je kratek\, navdihujoč govor\, ki ga startup-i uporabljajo za vzbuditev pozornosti ideje\, rešitve/produkta\, edinstvene vrednosti in ekipe\, običajno za predstavitev pred investitorji \n‘Startup pitch’ je odprt za širšo javnost. Trajal bo približno 1 uro in pol.\nVabljeni.
URL:https://www.primorski-tp.si/dogodek/startup-pitch-zakljucek-4-startup-vikenda-nova-gorica/
CATEGORIES:PTP dogodki
END:VEVENT
BEGIN:VEVENT
DTSTART;TZID=Africa/Abidjan:20150924T080000
DTEND;TZID=Africa/Abidjan:20150924T170000
DTSTAMP:20260425T180242
CREATED:20150924T074750Z
LAST-MODIFIED:20200429T075012Z
UID:51030-1443081600-1443114000@www.primorski-tp.si
SUMMARY:22. Business Meetups Nova Gorica
DESCRIPTION:Primorski tehnološki park vas vabi na 22. Business Meetups Nova Gorica\, ki bo potekal v četrtek\, 24.9.2015 ob 20. uri v lokalu Cafe Gallus. Gosta večera bosta Miha Fabjan in Matej Ramuta iz start-up ekipe SmartNinja\, šole programiranja in ostalih sodobnih IT veščin (digitalni marketing\, grafično oblikovanje\, internet stvari itd.). Ne zamudite pametnih ‘ninji’ in se udeležite večernega mreženje s Primorskim tehnološkim parkom. Vstopnine ni. \nV vsakem izmed nas se skrivajo talenti\, ki jih mnogokrat tradicionalni izobraževalni sistem ne prepozna. Misija SmartNinje je ljudem pomagati odkriti in razviti talente ter veščine na sodobnem IT področju. Veščine\, ki ti bodo pomagale lažje najti službo – ali pa jo celo ustvariti! V ta namen organizirajo tečaje spletnega in mobilnega programiranja\, grafičnega oblikovanja\, projektnega managementa\, digitalnega marketinga\, interneta stvari (IoT) in še več. \nFantom iz start-up ekipe SmartNinja\, ki so med drugim zagnali tudi Start:up Novo mesto\, je glavna prioriteta odpraviti problem pomanjkanja tehničnega znanja\, ki bi start-up ekipam omogočilo uresničitev idej oz. mladim lažje doprineslo preboj do kvalitetnih služb. Temu v odgovor je nastal mlad start-up\, SmartNinja. \nVeč o ekipi SmartNinja si lahko preberete na njihovi spletni strani: smartninja.org \nBusiness Meetups Nova Gorica so redna neformalna poslovna srečanja\, ki jih organizira Primorski tehnološki park v novogoriškem lokalu Cafe Gallus z namenom izmenjave dobrih podjetniških zgodb\, znanja\, izkušenj\, navezovanja novih poslovnih vezi ter novih poslovnih priložnosti. Business Meetups gostuje uspešne podjetnike in podjetnice\, s katerimi predstavlja najsodobnejše teme iz start-up podjetništva.
URL:https://www.primorski-tp.si/dogodek/22-business-meetups-nova-gorica/
CATEGORIES:PTP dogodki
END:VEVENT
BEGIN:VEVENT
DTSTART;TZID=Africa/Abidjan:20150723T080000
DTEND;TZID=Africa/Abidjan:20150723T170000
DTSTAMP:20260425T180242
CREATED:20150723T075049Z
LAST-MODIFIED:20200429T075355Z
UID:51032-1437638400-1437670800@www.primorski-tp.si
SUMMARY:20. Business Meetups Nova Gorica: summer edition
DESCRIPTION:Business Meetups Nova Gorica nadaljuje s svojimi neformalnimi poslovnimi srečanji v centru Nove Gorice. Že v 20. organiziramo srečanje z namenom izmenjave dobrih podjetniških zgodb\, znanj\, izkušenj\, navezovanja novih poslovnih vezi ter novih poslovnih priložnosti. \nTokratni poletni Business Meetups vabi na svoj dogodek vse lokalne podjetnike in investitorje ter domače start-upe. Poletno mreženje je namenjeno vsem tistim\, ki bi radi vzpostavili nove podjetniške vezi\, kontakte\, spoznali naše delo ali se zgolj prijetno družili ob sveži pijači med podjetniškimi obrazi. \nVečer bo obarvan z zabavno glasbo in pivom. Vabljeni – vstopnine ni.
URL:https://www.primorski-tp.si/dogodek/20-business-meetups-nova-gorica-summer-edition/
CATEGORIES:PTP dogodki
END:VEVENT
END:VCALENDAR